Workbook
Name COBRA_Qualifying_Events: Lists!$F$17:$F$22
Name COBRA_Type: Lists!$E$17:$E$18
Name Dental_Carrier_Plans: Lists!$C$27:$C$34
Name Dental_Enrolling: Lists!$G$8:$G$9
Name DoubleChoice_Bronze_Silver: 'Medical Plans'!$E$3:$E$150
Name DoubleChoice_Gold_Platinum: 'Medical Plans'!$G$3:$G$150
Name DoubleChoice_Silver_Gold: 'Medical Plans'!$F$3:$F$150
Name Enrolling_Type: Lists!$A$17:$A$18
Name Gender: Lists!$G$4:$G$5
Name Languages: Lists!$D$17:$D$22
Name Life_BeneficiaryType: Lists!$H$27:$H$28
Name Life_RelationshipsBeneficiary: Lists!$G$27:$G$67
Name Make_A_Selection: 'Medical Plans'!$L$4
Name Marital_Status: Lists!$B$17:$B$19
Name Med_Den_Enrolling: Lists!$F$8:$F$9
Name Offering_Chiro: Lists!$D$4:$D$7
Name Offering_Dental: Lists!$B$4:$B$7
Name Offering_Life: Lists!$E$4:$E$6
Name Offering_Vision: Lists!$C$4:$C$6
Name PCP_Selection_Dental: Lists!$H$17:$H$19
Name PCP_Selection_Medical: Lists!$G$17:$G$20
Name Relationship_Code: Lists!$C$17:$C$20
Name SingleChoice_Bronze: 'Medical Plans'!$H$3:$H$150
Name SingleChoice_Gold: 'Medical Plans'!$J$3:$J$150
Name SingleChoice_Platinum: 'Medical Plans'!$K$3:$K$150
Name SingleChoice_Silver: 'Medical Plans'!$I$3:$I$150
Name States: Lists!$J$4:$J$59
Name Tiered_CHOICE: 'Medical Plans'!$B$2:$L$2
Name TotalChoice_Bronze_Silver_Gold_Platinum: 'Medical Plans'!$B$3:$B$150
Name TripleChoice_Bronze_Silver_Gold: 'Medical Plans'!$C$3:$C$150
Name TripleChoice_Silver_Gold_Platinum: 'Medical Plans'!$D$3:$D$150
Name Vision: Lists!$D$27:$D$28
Name Waiver_Type: Lists!$H$4:$H$7
Name Waiving_Reasons: Lists!$I$4:$I$9
Name Yes_or_No: Lists!$F$4:$F$5

Sheet 1. Start Here
A1: NEW BUSINESS: EMPLOYEE CENSUS | ENROLLMENT
A3: Welcome to CaliforniaChoice. We're not your traditional employee benefits program. With CaliforniaChoice, you get a flexible insurance program that fits the needs of all your employees.
A4: Spreadsheet should only be used for New Business Effective Dates 1/1/2026 to 6/1/2026.
A5: This spreadsheet must be submitted with the Attestation form signed by an authorized group contact. To obtain the form or if at any time you need assistance, please contact our underwriting team at underwriting@calchoice.com.
A6: Complete the required information on this page before beginning the Employees Waiving or Employees Enrolling worksheets. Authorized contact can be any authorized contact for the group.
A7: COMPANY NAME (LEGAL) | B7: 1
A8: COMPANY NAME (DBA) | B8: 2
A9: REQUESTED EFFECTIVE DATE | B9: 3
A10: AUTHORIZED COMPANY CONTACT NAME | B10: 4
A11: AUTHORIZED COMPANY CONTACT PHONE NUMBER | B11: 5
A12: AUTHORIZED COMPANY CONTACT EMAIL | B12: 6
A13: Select the Medical & Ancillary Coverages you are offering to your employees. NOTE: A selection must be made in each coverage type for the Members Enrolling/Waiving sections to work as expected.
A14: MEDICAL | B14: 7 | C14: -- Select Option --
A15: DENTAL | B15: 8 | C15: -- Select Option --
A16: VISION | B16: 9 | C16: -- Select Option --
A17: CHIROPRACTIC | B17: 10 | C17: -- Select Option --
A18: LIFE | B18: 11 | C18: -- Select Option --
A20: Please review the following information before filling out the spreadsheet. If instructions are not followed, the spreadsheet will be returned so corrections can be made prior to processing. Please note that this will cause delays with enrollment.
A22: The reporting of enrollment data to CHOICE Administrators Insurance Services, Inc./CaliforniaChoice by Groups and/or their agents is permitted based on the understanding and agreement that each eligible employee/Subscriber has completed and signed a CaliforniaChoice Medical/Dental/Life/Vision Enrollment Application (new enrollment), and/or Medical/Dental Waiver form (declining coverage for self and/or dependents) that includes statutory notice regarding the Health Plan's use of binding arbitration for certain member disputes.
A23: By sending this enrollment spreadsheet data, I attest that all eligible employees have read and agreed to the Health Plan's Arbitration language as it appears below:
A24: CaliforniaChoice Health Plan Mandatory Binding Arbitration Agreement I understand that, if I select a Health Plan that uses mandatory binding arbitration to resolve disputes, I am agreeing to arbitrate claims that relate to my or a dependent's membership in the Health Plan (except for Small Claims Court cases and claims that cannot be subject to binding arbitration under governing law). I understand that any dispute between myself, my heirs, relatives, or other associated parties on the one hand and the Health Plan, any contracted health care providers, administrators, or other associated parties on the other hand for alleged violation of any duty arising out of or related to membership in the Health Plan, including any claim for medical or hospital malpractice (a claim that medical services were unnecessary or unauthorized or were improperly, negligently, or incompetently rendered), for premises liability, or relating to the coverage for, or delivery of, services or items, irrespective of legal theory, must be decided by binding arbitration under California law and not by lawsuit or resort to court process, except as applicable law provides for judicial review of arbitration proceedings. I agree to give up our right to a jury trial and accept the use of binding arbitration. I understand that the full arbitration provision is in the Health Plan's coverage document, which is available for my review.
A26: Please note: ❶ This spreadsheet may be rendered invalid if modified. ❷ This spreadsheet is for new group member enrollment only. ❸ This spreadsheet is for California groups only. ❹ Spreadsheets are approved on a one time basis for the approved date stated above, unless otherwise noted. ❺ All files must be sent in XLSX file extension only (Excel 2007+). ❻ Please complete all fields as appropriate for each eligible employee who is enrolling or waiving coverage.

Sheet 2. Members Enrolling
C1: NEW BUSINESS: EMPLOYEE CENSUS | ENROLLMENT SPREADSHEET
A3: Complete this page only if the Employee is electing medical, dental, and/or vision for themselves and their eligible dependents. Employee must be enrolled on coverage to enroll dependent(s) unless if a COBRA takeover. Please list all waivers on the Members Waiving Sheet.
A4: If offered by the employer, the Life coverage benefit cannot be waived and all eligible employees must be listed on this sheet, even if listed on the Members Waiving sheet.
A5: If offered by the employer, Chiropractic coverage is auto-enrolled for all employees residing in the state of California that enroll in Medical.
A6: EMPLOYEE AND DEPENDENT PERSONAL INFORMATION | K6: EMPLOYEE ONLY DEMOGRAPHIC INFORMATION | Y6: COBRA MEMBERS ONLY | AB6: MEDICAL PLAN & PCP SELECTION | AJ6: DENTAL PLAN SELECTION (IF APPLICABLE) | AP6: VISION (IF APPLICABLE) | AR6: CHIRO (IF APPLICABLE) | AS6: LIFE ENROLLMENT (IF APPLICABLE)
A7: REQUIRED | B7: REQUIRED | C7: REQUIRED | D7: OPTIONAL - 1 LETTER ONLY | E7: REQUIRED TO PUT EMPLOYEE SSN FOR ALL ENTRIES (9 digit - no dashes Dashes will auto insert) | F7: REQUIRED (9 digit - no dashes Dashes will auto insert) | G7: REQUIRED | H7: REQUIRED. (Please enter as MM/DD/YYYY) | I7: REQUIRED FOR DISABLED CHILDREN THAT ARE OVER AGE 26 | K7: REQUIRED FOR EMPLOYEE ONLY | L7: REQUIRED FOR EMPLOYEE ONLY (x@x.x) | M7: REQUIRED FOR EMPLOYEE ONLY (10 digits - no dashes or parentheses) | N7: REQUIRED FOR EMPLOYEE ONLY (Alphanumeric Including apt number Cannot be a P.O. box) | R7: OPTIONAL FOR EMPLOYEE ONLY IF DIFFERENT THAN PHYSICAL (if same as physical, leave blank. P.O. box allowed) | V7: OPTIONAL FOR EMPLOYEE ONLY (For communication purposes only, if employee would like to receive communication in an available language, make a selection, if left blank the default is English) | W7: REQUIRED FOR EMPLOYEE ONLY | X7: REQUIRED FOR EMPLOYEE ONLY (Full time Employment date, excluding any orientation periods, if applicable. Please enter as MM/DD/YYYY) | Y7: REQUIRED ONLY IF MEMBER IS ON COBRA Employee must be enrolled on coverage to enroll dependent(s) unless if a COBRA takeover (Please enter as MM/DD/YYYY for Event Date) | AB7: REQUIRED FOR ALL MEMBERS | AC7: REQUIRED FOR EMPLOYEE ONLY (All dependents enrolled in the same plan) | AD7: REQUIRED FOR ALL MEMBERS IF THE PLAN SELECTION IS HMO (Not required for Kaiser Permanente or PPO benefit plans. **If the PCP selection is not contracted with your selected Health Plan/Benefit or if the PCP is not provided by the member, one will automatically be assigned) | AI7: REQUIRED FOR ALL MEMBERS WHEN GROUP IS OFFERING DENTAL | AJ7: REQUIRED FOR EMPLOYEE ONLY WHEN GROUP IS OFFERING DENTAL (All dependents enrolled in the same plan) | AK7: REQUIRED FOR ALL MEMBERS IF THE PLAN SELECTION IS METLIFE OR SMILESAVER PLANS (Not required for Ameritas plans. **If the PCP selection is not contracted with your selected Carrier/Benefit or if the PCP is not provided by the member, one will automatically be assigned) | AP7: REQUIRED FOR ALL MEMBERS WHEN GROUP IS OFFERING VISION (Employee is responsible for 100% of the cost) | AQ7: REQUIRED FOR EMPLOYEE ONLY WHEN GROUP IS OFFERING VISION (All dependents enrolled in the same plan) | AR7: NO ENTRY REQUIRED. (Members are Auto-Enrolled if Chiro is offered by the Group and if the Employee's physical address is in CA) | AS7: NO ENTRY REQUIRED. (Employees are auto-enrolled if Life is offered by the Group) | AT7: REQUIRED FOR EMPLOYEE ONLY WHEN THE GROUP IS OFFERING LIFE. (Sheet can accommodate three beneficiaries, please let our Underwriting team know if you need to add more than three. ***If listing more than one primary beneficiary or more than one secondary beneficiary, please enter the percentage of the insurance proceeds that each individual should receive. The percentage of insurance proceeds must equal 100% for each type of beneficiary (Primary or Secondary). No secondary beneficiaries will be entitled to any part of the insurance proceeds if any primary beneficiary is living at the time of death of the insured. Please enter DOBs as MM/DD/YYYY)
A8: RELATIONSHIP TO EMPLOYEE | B8: LAST NAME (LEGAL) | C8: FIRST NAME (LEGAL) | D8: MIDDLE INITIAL | E8: EMPLOYEE SOCIAL SECURITY NUMBER | F8: MEMBER SOCIAL SECURITY NUMBER | G8: GENDER | H8: DOB | I8: DISABLED DEPENDENT | J8: IS THE DISABILITY PERMANENT | K8: MARITAL STATUS | L8: EMPLOYEE EMAIL | M8: EMPLOYEE PHONE NUMBER | N8: PHYSICAL STREET ADDRESS | O8: PHYSICAL CITY | P8: PHYSICAL STATE | Q8: PHYSICAL ZIP | R8: MAILING ADDRESS | S8: MAILING CITY | T8: MAILING STATE | U8: MAILING ZIP | V8: LANGUAGE | W8: JOB TITLE | X8: DATE OF HIRE | Y8: COBRA TYPE | Z8: COBRA QUALIFYING / TRIGGERING EVENT | AA8: COBRA QUALIFYING / TRIGGERING EVENT DATE | AB8: ENROLLING IN MEDICAL | AC8: MEDICAL ENROLLMENT: SELECT HEALTH PLAN & BENEFIT | AD8: PROVIDER (PCP)SELECTION | AE8: PROVIDER NAME | AF8: CURRENT PATIENT? | AG8: PROVIDER ID# | AH8: PROVIDER OFFICE LOCATION OR CITY | AI8: ENROLLING IN DENTAL | AJ8: DENTAL ENROLLMENT: SELECT CARRIER & BENEFIT | AK8: DENTAL PROVIDER (PCP)SELECTION | AL8: DENTAL PROVIDER NAME | AM8: DENTAL CURRENT PATIENT? | AN8: DENTAL PROVIDER ID# | AO8: DENTAL PROVIDER OFFICE LOCATION OR CITY | AP8: ENROLLING IN VISION | AQ8: VISION ENROLLMENT | AR8: CHIRO ENROLLMENT | AS8: LIFE ENROLLMENT | AT8: 1st BENEFICIARY NAME Full Legal Name | AU8: 1st BENEFICIARY DOB | AV8: 1st BENEFICIARY RELATIONSHIP | AW8: 1st BENEFICIARY TYPE | AX8: 1st BENEFICIARY % | AY8: 2nd BENEFICIARY NAME Full Legal Name | AZ8: 2nd BENEFICIARY DOB | BA8: 2nd BENEFICIARY RELATIONSHIP | BB8: 2nd BENEFICIARY TYPE | BC8: 2nd BENEFICIARY % | BD8: 3rd BENEFICIARY NAME Full Legal Name | BE8: 3rd BENEFICIARY DOB | BF8: 3rd BENEFICIARY RELATIONSHIP | BG8: 3rd BENEFICIARY TYPE | BH8: 3rd BENEFICIARY %
AR9: =IF(OR('1. Start Here'!$C$17="No Coverage Offered", '1. Start Here'!$C$17="-- Select Option --"), "N/A", IF(AND(NOT(ISBLANK($AC9)), $P9="CA", $A9="Employee")=TRUE, "EE + Any Deps Enrolled", "N/A")) -> N/A | AS9: =IF(OR('1. Start Here'!$C$18="No Coverage Offered", '1. Start Here'!$C$18="-- Select Option --")=TRUE, "N/A", IF(AND($A9="Employee", '1. Start Here'!$C$18="Employer Sponsored"), "EE Only Enrolled", "N/A")) -> N/A
AR10: =IF(OR('1. Start Here'!$C$17="No Coverage Offered", '1. Start Here'!$C$17="-- Select Option --"), "N/A", IF(AND(NOT(ISBLANK($AC10)), $P10="CA", $A10="Employee")=TRUE, "EE + Any Deps Enrolled", "N/A")) -> N/A | AS10: =IF(OR('1. Start Here'!$C$18="No Coverage Offered", '1. Start Here'!$C$18="-- Select Option --")=TRUE, "N/A", IF(AND($A10="Employee", '1. Start Here'!$C$18="Employer Sponsored"), "EE Only Enrolled", "N/A")) -> N/A
AR11: =IF(OR('1. Start Here'!$C$17="No Coverage Offered", '1. Start Here'!$C$17="-- Select Option --"), "N/A", IF(AND(NOT(ISBLANK($AC11)), $P11="CA", $A11="Employee")=TRUE, "EE + Any Deps Enrolled", "N/A")) -> N/A | AS11: =IF(OR('1. Start Here'!$C$18="No Coverage Offered", '1. Start Here'!$C$18="-- Select Option --")=TRUE, "N/A", IF(AND($A11="Employee", '1. Start Here'!$C$18="Employer Sponsored"), "EE Only Enrolled", "N/A")) -> N/A
AR12: =IF(OR('1. Start Here'!$C$17="No Coverage Offered", '1. Start Here'!$C$17="-- Select Option --"), "N/A", IF(AND(NOT(ISBLANK($AC12)), $P12="CA", $A12="Employee")=TRUE, "EE + Any Deps Enrolled", "N/A")) -> N/A | AS12: =IF(OR('1. Start Here'!$C$18="No Coverage Offered", '1. Start Here'!$C$18="-- Select Option --")=TRUE, "N/A", IF(AND($A12="Employee", '1. Start Here'!$C$18="Employer Sponsored"), "EE Only Enrolled", "N/A")) -> N/A
AR13: =IF(OR('1. Start Here'!$C$17="No Coverage Offered", '1. Start Here'!$C$17="-- Select Option --"), "N/A", IF(AND(NOT(ISBLANK($AC13)), $P13="CA", $A13="Employee")=TRUE, "EE + Any Deps Enrolled", "N/A")) -> N/A | AS13: =IF(OR('1. Start Here'!$C$18="No Coverage Offered", '1. Start Here'!$C$18="-- Select Option --")=TRUE, "N/A", IF(AND($A13="Employee", '1. Start Here'!$C$18="Employer Sponsored"), "EE Only Enrolled", "N/A")) -> N/A
AR14: =IF(OR('1. Start Here'!$C$17="No Coverage Offered", '1. Start Here'!$C$17="-- Select Option --"), "N/A", IF(AND(NOT(ISBLANK($AC14)), $P14="CA", $A14="Employee")=TRUE, "EE + Any Deps Enrolled", "N/A")) -> N/A | AS14: =IF(OR('1. Start Here'!$C$18="No Coverage Offered", '1. Start Here'!$C$18="-- Select Option --")=TRUE, "N/A", IF(AND($A14="Employee", '1. Start Here'!$C$18="Employer Sponsored"), "EE Only Enrolled", "N/A")) -> N/A
AR15: =IF(OR('1. Start Here'!$C$17="No Coverage Offered", '1. Start Here'!$C$17="-- Select Option --"), "N/A", IF(AND(NOT(ISBLANK($AC15)), $P15="CA", $A15="Employee")=TRUE, "EE + Any Deps Enrolled", "N/A")) -> N/A | AS15: =IF(OR('1. Start Here'!$C$18="No Coverage Offered", '1. Start Here'!$C$18="-- Select Option --")=TRUE, "N/A", IF(AND($A15="Employee", '1. Start Here'!$C$18="Employer Sponsored"), "EE Only Enrolled", "N/A")) -> N/A
AR16: =IF(OR('1. Start Here'!$C$17="No Coverage Offered", '1. Start Here'!$C$17="-- Select Option --"), "N/A", IF(AND(NOT(ISBLANK($AC16)), $P16="CA", $A16="Employee")=TRUE, "EE + Any Deps Enrolled", "N/A")) -> N/A | AS16: =IF(OR('1. Start Here'!$C$18="No Coverage Offered", '1. Start Here'!$C$18="-- Select Option --")=TRUE, "N/A", IF(AND($A16="Employee", '1. Start Here'!$C$18="Employer Sponsored"), "EE Only Enrolled", "N/A")) -> N/A
AR17: =IF(OR('1. Start Here'!$C$17="No Coverage Offered", '1. Start Here'!$C$17="-- Select Option --"), "N/A", IF(AND(NOT(ISBLANK($AC17)), $P17="CA", $A17="Employee")=TRUE, "EE + Any Deps Enrolled", "N/A")) -> N/A | AS17: =IF(OR('1. Start Here'!$C$18="No Coverage Offered", '1. Start Here'!$C$18="-- Select Option --")=TRUE, "N/A", IF(AND($A17="Employee", '1. Start Here'!$C$18="Employer Sponsored"), "EE Only Enrolled", "N/A")) -> N/A
AR18: =IF(OR('1. Start Here'!$C$17="No Coverage Offered", '1. Start Here'!$C$17="-- Select Option --"), "N/A", IF(AND(NOT(ISBLANK($AC18)), $P18="CA", $A18="Employee")=TRUE, "EE + Any Deps Enrolled", "N/A")) -> N/A | AS18: =IF(OR('1. Start Here'!$C$18="No Coverage Offered", '1. Start Here'!$C$18="-- Select Option --")=TRUE, "N/A", IF(AND($A18="Employee", '1. Start Here'!$C$18="Employer Sponsored"), "EE Only Enrolled", "N/A")) -> N/A
AR19: =IF(OR('1. Start Here'!$C$17="No Coverage Offered", '1. Start Here'!$C$17="-- Select Option --"), "N/A", IF(AND(NOT(ISBLANK($AC19)), $P19="CA", $A19="Employee")=TRUE, "EE + Any Deps Enrolled", "N/A")) -> N/A | AS19: =IF(OR('1. Start Here'!$C$18="No Coverage Offered", '1. Start Here'!$C$18="-- Select Option --")=TRUE, "N/A", IF(AND($A19="Employee", '1. Start Here'!$C$18="Employer Sponsored"), "EE Only Enrolled", "N/A")) -> N/A
AR20: =IF(OR('1. Start Here'!$C$17="No Coverage Offered", '1. Start Here'!$C$17="-- Select Option --"), "N/A", IF(AND(NOT(ISBLANK($AC20)), $P20="CA", $A20="Employee")=TRUE, "EE + Any Deps Enrolled", "N/A")) -> N/A | AS20: =IF(OR('1. Start Here'!$C$18="No Coverage Offered", '1. Start Here'!$C$18="-- Select Option --")=TRUE, "N/A", IF(AND($A20="Employee", '1. Start Here'!$C$18="Employer Sponsored"), "EE Only Enrolled", "N/A")) -> N/A
... AR497: =IF(OR('1. Start Here'!$C$17="No Coverage Offered", '1. Start Here'!$C$17="-- Select Option --"), "N/A", IF(AND(NOT(ISBLANK($AC497)), $P497="CA", $A497="Employee")=TRUE, "EE + Any Deps Enrolled", "N/A")) -> N/A | AS497: =IF(OR('1. Start Here'!$C$18="No Coverage Offered", '1. Start Here'!$C$18="-- Select Option --")=TRUE, "N/A", IF(AND($A497="Employee", '1. Start Here'!$C$18="Employer Sponsored"), "EE Only Enrolled", "N/A")) -> N/A

Sheet 3. Members Waiving
B1: NEW BUSINESS: MEDICAL | DENTAL WAIVER
A3: Complete this page only if the Employee DOES NOT WANT MEDICAL OR DENTAL COVERAGE for themselves and/or their eligible dependents.
A4: If offered by the employer, the life coverage benefit cannot be waived and all employees must be on the Members Enrolling sheet.
A5: If offered by the employer, Chiropractic coverage is auto-enrolled for all employees residing in the state of California that enroll in Medical. If waiving Medical, Chiro is also automatically waived.
A6: REQUIRED for Employee Only. (Do not list dependent name) | B6: REQUIRED for Employee Only. (Do not list dependent name) | C6: REQUIRED (9 digit - NO DASHES Dashes will auto insert) | D6: REQUIRED (Select who you are waiving coverage for) | E6: REQUIRED ONLY IF WAIVING CHILDREN FOR MEDICAL COVERAGE (Separate names with a comma separator) | F6: REQUIRED ONLY IF EMPLOYEE IS WAIVING COVERAGE (Not required if only waiving coverage for dependents) | G6: REQUIRED ONLY IF EMPLOYEE WAIVING DUE TO OTHER MEDICAL COVERAGE | H6: REQUIRED WHEN GROUP IS OFFERING EMPLOYER-SPONSORED DENTAL (Select who you are waiving coverage for) | I6: REQUIRED ONLY IF WAIVING CHILDREN FOR EMPLOYER SPONSORED DENTAL COVERAGE (Separate names with a comma separator) | J6: ONLY REQUIRED FOR EMPLOYEE IF GROUP IS OFFERING EMPLOYER SPONSORED DENTAL (Not required if waiving for dependents) | K6: REQUIRED ONLY IF EMPLOYEE IS WAIVING DUE TO OTHER EMPLOYER SPONSORED DENTAL COVERAGE (Not required if waiving for dependents)
A7: EMPLOYEE LAST NAME | B7: EMPLOYEE FIRST NAME | C7: LIST EE SSN HERE (Dependent SSN Not Required) | D7: MEDICAL WAIVER FOR? | E7: CHILD(REN) WAIVING (MEDICAL) | F7: REASON FOR WAIVING MEDICAL | G7: MEDICAL CARRIER | H7: DENTAL WAIVER FOR | I7: CHILD(REN) WAIVING (DENTAL) | J7: REASON FOR WAIVING DENTAL | K7: DENTAL CARRIER

Sheet Lists
A1: Lists
L2: Per Sandra, certain carriers will provide coverage in the US Territories, so they are included in the States list
B3: Offering_Dental | C3: Offering_Vision | D3: Offering_Chiro | E3: Offering_Life | F3: Yes_or_No | G3: Gender | H3: Waiver Type | I3: Waiving Reasons | J3: States | K3: Effective Start Dates | L3: Alabama | M3: AL | N3: Kentucky | O3: KY | P3: Ohio | Q3: OH
B4: -- Select Option -- | C4: -- Select Option -- | D4: -- Select Option -- | E4: -- Select Option -- | F4: Yes | G4: Male | H4: Myself + All Dependents (select if you have no dependents) | I4: Covered Under Another Employer | J4: CA | K4: 46023 | L4: Alaska | M4: AK | N4: Louisiana | O4: LA | P4: Oklahoma | Q4: OK
B5: Employer Sponsored | C5: Voluntary | D5: Employer Sponsored - Chiro Only | E5: Employer Sponsored | F5: No | G5: Female | H5: Spouse/Domestic Partner Only | I5: Covered Under Spouse/Domestic Partner/Parent | J5: AL | K5: 46054 | L5: Arizona | M5: AZ | N5: Maine | O5: ME | P5: Oregon | Q5: OR
B6: Voluntary | C6: No Coverage Offered | D6: Employer Sponsored - Chiro +Acupuncture | E6: No Coverage Offered | H6: Children Only | I6: Medicare | J6: AK | K6: 46082 | L6: Arkansas | M6: AR | N6: Maryland | O6: MD | P6: Pennsylvania | Q6: PA
B7: No Coverage Offered | D7: No Coverage Offered | F7: Med_Dental_Enrolling | G7: Dental_Enrolling | H7: Spouse/Domestic Partner & Children | I7: Medi-cal | J7: AZ | K7: 46113 | L7: American Samoa | M7: AS | N7: Massachusetts | O7: MA | P7: Puerto Rico | Q7: PR
F8: Enrolling | G8: Enrolling | I8: Individual Policy | J8: AR | K8: 46143 | L8: California | M8: CA | N8: Michigan | O8: MI | P8: Rhode Island | Q8: RI
F9: Not Enrolling (See Waiver page) | G9: Not Enrolling (See Waiver page if Employer-Sponsored) | I9: Other Reason | J9: AS | K9: 46174 | L9: Colorado | M9: CO | N9: Minnesota | O9: MN | P9: South Carolina | Q9: SC
J10: CO | L10: Connecticut | M10: CT | N10: Mississippi | O10: MS | P10: South Dakota | Q10: SD
J11: CT | L11: Delaware | M11: DE | N11: Missouri | O11: MO | P11: Tennessee | Q11: TN
J12: DE | L12: District of Columbia | M12: DC | N12: Montana | O12: MT | P12: Texas | Q12: TX
J13: DC | L13: Florida | M13: FL | N13: Nebraska | O13: NE | P13: Trust Territories | Q13: TT
J14: FL | L14: Georgia | M14: GA | N14: Nevada | O14: NV | P14: Utah | Q14: UT
J15: GA | L15: Guam | M15: GU | N15: New Hampshire | O15: NH | P15: Vermont | Q15: VT
A16: Enrolling_Type | B16: Marital_Status | C16: Relationship_Code | D16: Languages | E16: COBRA_Type | F16: COBRA_Qualifying_Events | G16: Provider Selection Medical | H16: Provider Selection Dental | J16: GU | L16: Hawaii | M16: HI | N16: New Jersey | O16: NJ | P16: Virginia | Q16: VA
A17: Enrolling | B17: Single | C17: Employee | D17: English | E17: Federal | F17: Termination of Employment | G17: Member Providing PCP Details | H17: Member Providing PCP Details | J17: ID | L17: Idaho | M17: ID | N17: New Mexico | O17: NM | P17: Virgin Islands | Q17: VI
A18: Waived | B18: Married | C18: Spouse | D18: Chinese | E18: Cal-COBRA | F18: Reduction of Hours | G18: Please have the Health Plan Assign a PCP | H18: Please have the Carrier Assign a PCP | J18: IL | L18: Illinois | M18: IL | N18: New York | O18: NY | P18: Washington | Q18: WA
B19: Domestic Partner | C19: Domestic Partner | D19: Korean | F19: Child No Longer Eligible | G19: NA - Kaiser Benefit | H19: NA - PPO Benefit | J19: IN | L19: Indiana | M19: IN | N19: North Carolina | O19: NC | P19: West Virginia | Q19: WV
C20: Child | D20: Russian | F20: Divorce/Legal Separation | G20: NA - PPO Benefit | J20: IA | L20: Iowa | M20: IA | N20: North Dakota | O20: ND | P20: Wisconsin | Q20: WI
D21: Spanish | F21: Medicare Entitlement | J21: KS | L21: Kansas | M21: KS | N21: Northern Mariana Islands | O21: MP | P21: Wyoming | Q21: WY
D22: Tagalog | F22: Death of Employee | J22: KY
D23: Vietnamese | J23: LA
J24: ME
J25: MD
C26: Dental Carrier/Plans | D26: Vision_Plans | G26: Life Relationship Beneficiary | H26: Life Type of Beneficiary | J26: MA
C27: Ameritas PPO 3000 | D27: Voluntary EyeMed | G27: Spouse | H27: Primary | J27: MI
C28: Ameritas PPO 3500 | D28: Voluntary VSP | G28: Domestic Partner | H28: Secondary | J28: MN
C29: Ameritas PPO 4000 | G29: Daughter | J29: MS
C30: Ameritas PPO 5000 | G30: Son | J30: MO
C31: MetLife DHMO MET100 | G31: Child | J31: MT
C32: MetLife DHMO MET185 | J32: NE
C33: SmileSaver DHMO 1000 | G33: Aunt | J33: NV
C34: SmileSaver DHMO 3000 | G34: Brother | J34: NH
G35: Brother-in-Law | J35: NJ
G36: Cousin | J36: NM
G37: Daughter-in-Law | J37: NY
G38: Estate | J38: NC
G39: Ex-Spouse | J39: ND
G40: Father | J40: MP
...

Sheet Version Control
A1: Version Control History
A4: Version | B4: Date | C4: Developer | D4: Description of Changes
A5: 1 | B5: 45870 | C5: Chris, Rebekah | D5: Initial Build
A6: 1.1 | B6: 45876 | C6: Courtnie, Chris | D6: Edits to verbiage and new column on the Members Waiving for the Children waiving (per Adrianna's request)
A7: 1.2 | B7: 45889 | C7: Courtnie, Chris | D7: Edits to conditional formating on waiver page for Medical Carrier. Updated Requested Effective Date on Start Here page from 7/1/25 to 12/1/25.
A8: 1.3 | B8: 45897 | C8: Rebekah | D8: Edits/Expansion to the Life Relationship Beneficiary lists. Updated the List and Named Range.
A9: 1.4 | B9: 45924 | C9: Chris | D9: Updated column AR formula to default to " N/A" include when Start Here page is left "--Select Option--", Updated column AS formula to default to " N/A" include when Start Here page is left "--Select Option--", & Udpate column AQ conditional formula to go "dark" when AP says "No" .
A10: NA | B10: 45936 | C10: Courtnie | D10: Created 1/1/26-3/1/2026 version of Census Enrollment excel.

Sheet Medical Plans
A1: Tiered Choice and their Health Plans | C1: DO NOT RENAME ANY OF THE COLUMN HEADERS - Part of Named Ranges in the Workbook
A2: RecordID | B2: TotalChoice_Bronze_Silver_Gold_Platinum | C2: TripleChoice_Bronze_Silver_Gold | D2: TripleChoice_Silver_Gold_Platinum | E2: DoubleChoice_Bronze_Silver | F2: DoubleChoice_Silver_Gold | G2: DoubleChoice_Gold_Platinum | H2: SingleChoice_Bronze | I2: SingleChoice_Silver | J2: SingleChoice_Gold | K2: SingleChoice_Platinum | L2: -- Select Option -- | O2: Dependent List
A3: Intentionally blank row
A4: 1 | B4: Anthem-Bronze PPO A | C4: Anthem-Bronze PPO A | D4: Anthem-Silver HMO D | E4: Anthem-Bronze PPO C | F4: Anthem-Silver HMO D | G4: Anthem-Gold PPO D | H4: Anthem-Bronze PPO C | I4: Anthem-Silver PPO B | J4: Anthem-Gold HMO A | K4: Anthem-Platinum PPO B | L4: You still need to make a selection on the 1. Start Here tab | O4: Tiered Choice | P4: Health Plan & Benefit
A5: 2 | B5: Anthem-Bronze PPO B | C5: Anthem-Bronze PPO B | D5: Anthem-Silver PPO D | E5: Anthem-Bronze PPO A | F5: Anthem-Silver PPO C | G5: Anthem-Gold PPO C | H5: Anthem-Bronze PPO A | I5: Anthem-Silver PPO D | J5: Anthem-Gold PPO H | K5: Anthem-Platinum HMO A | O5: SingleChoice_Bronze | P5: Western-Bronze HMO B
A6: 3 | B6: Anthem-Bronze PPO C | C6: Anthem-Bronze PPO D | D6: Anthem-Silver PPO C | E6: Anthem-Bronze PPO B | F6: Anthem-Silver PPO E | G6: Anthem-Gold PPO E | H6: Anthem-Bronze PPO D | I6: Anthem-Silver HMO A | J6: Anthem-Gold PPO B | K6: Anthem-Platinum HMO B
A7: 4 | B7: Anthem-Bronze PPO D | C7: Anthem-Bronze PPO C | D7: Anthem-Silver PPO E | E7: Anthem-Bronze PPO D | F7: Anthem-Silver PPO D | G7: Anthem-Gold HMO A | H7: Anthem-Bronze PPO B | I7: Anthem-Silver PPO F | J7: Anthem-Gold PPO E | K7: Anthem-Platinum HMO D
A8: 5 | B8: Anthem-Silver PPO F | C8: Anthem-Silver PPO C | D8: Anthem-Silver HMO B | E8: Anthem-Silver HMO A | F8: Anthem-Silver PPO B | G8: Anthem-Gold PPO B | H8: Kaiser-Bronze HMO A | I8: Anthem-Silver HMO B | J8: Anthem-Gold PPO I | K8: Anthem-Platinum HMO C
A9: 6 | B9: Anthem-Silver PPO C | C9: Anthem-Silver PPO E | D9: Anthem-Silver PPO B | E9: Anthem-Silver PPO E | F9: Anthem-Silver HMO A | G9: Anthem-Gold HMO B | H9: Kaiser-Bronze HMO C | I9: Anthem-Silver HMO D | J9: Anthem-Gold PPO D | K9: Health Net-Platinum HMO F
A10: 7 | B10: Anthem-Silver PPO B | C10: Anthem-Silver HMO A | D10: Anthem-Silver PPO F | E10: Anthem-Silver PPO F | F10: Anthem-Silver PPO F | G10: Anthem-Gold PPO I | H10: Sharp-Bronze HMO B | I10: Anthem-Silver PPO E | J10: Anthem-Gold PPO C | K10: Health Net-Platinum HMO J
A11: 8 | B11: Anthem-Silver HMO A | C11: Anthem-Silver HMO B | D11: Anthem-Silver HMO A | E11: Anthem-Silver PPO B | F11: Anthem-Silver HMO B | G11: Anthem-Gold HMO C | H11: Sharp-Bronze HMO A | I11: Anthem-Silver PPO C | J11: Anthem-Gold HMO B | K11: Health Net-Platinum HMO I
A12: 9 | B12: Anthem-Silver HMO D | C12: Anthem-Silver PPO F | D12: Anthem-Gold HMO B | E12: Anthem-Silver HMO D | F12: Anthem-Gold PPO C | G12: Anthem-Gold PPO H | H12: Sutter-Bronze HMO A | I12: Health Net-Silver HMO A | J12: Anthem-Gold HMO C | K12: Health Net-Platinum HMO E
A13: 10 | B13: Anthem-Silver HMO B | C13: Anthem-Silver HMO D | D13: Anthem-Gold HMO C | E13: Anthem-Silver PPO D | F13: Anthem-Gold PPO B | G13: Anthem-Platinum HMO A | H13: Sutter-Bronze HMO B | I13: Kaiser-Silver HMO D | J13: Health Net-Gold HMO G | K13: Health Net-Platinum HMO H
A14: 11 | B14: Anthem-Silver PPO E | C14: Anthem-Silver PPO B | D14: Anthem-Gold PPO C | E14: Anthem-Silver HMO B | F14: Anthem-Gold PPO H | G14: Anthem-Platinum HMO B | H14: Western-Bronze HMO C | I14: Kaiser-Silver HMO A | J14: Health Net-Gold HMO A | K14: Health Net-Platinum HMO G
A15: 12 | B15: Anthem-Silver PPO D | C15: Anthem-Silver PPO D | D15: Anthem-Gold PPO E | E15: Anthem-Silver PPO C | F15: Anthem-Gold HMO B | G15: Anthem-Platinum HMO C | H15: Western-Bronze HMO B | I15: Kaiser-Silver HMO C | J15: Health Net-Gold HMO C | K15: Health Net-Platinum HMO C
A16: 13 | B16: Anthem-Gold PPO C | C16: Anthem-Gold PPO H | D16: Anthem-Gold PPO H | E16: Health Net-Silver HMO A | F16: Anthem-Gold HMO C | G16: Anthem-Platinum PPO B | I16: Kaiser-Silver HMO B | J16: Health Net-Gold HMO D | K16: Kaiser-Platinum HMO A
A17: 14 | B17: Anthem-Gold HMO C | C17: Anthem-Gold PPO D | D17: Anthem-Gold PPO I | E17: Kaiser-Bronze HMO A | F17: Anthem-Gold PPO E | G17: Anthem-Platinum HMO D | I17: Kaiser-Silver HMO E | J17: Health Net-Gold HMO B | K17: Kaiser-Platinum HMO B
A18: 15 | B18: Anthem-Gold HMO B | C18: Anthem-Gold PPO C | D18: Anthem-Gold PPO D | E18: Kaiser-Bronze HMO C | F18: Anthem-Gold HMO A | G18: Health Net-Gold HMO C | I18: Sharp-Silver HMO A | J18: Health Net-Gold HMO E | K18: Kaiser-Platinum HMO C
A19: 16 | B19: Anthem-Gold PPO D | C19: Anthem-Gold HMO C | D19: Anthem-Gold PPO B | E19: Kaiser-Silver HMO E | F19: Anthem-Gold PPO D | G19: Health Net-Gold HMO G | I19: Sharp-Silver HMO B | J19: Health Net-Gold HMO H | K19: Sharp-Platinum HMO B
A20: 17 | B20: Anthem-Gold PPO B | C20: Anthem-Gold PPO I | D20: Anthem-Gold HMO A | E20: Kaiser-Silver HMO A | F20: Anthem-Gold PPO I | G20: Health Net-Gold HMO H | I20: Sharp-Silver HMO C | J20: Health Net-Gold HMO I | K20: Sharp-Platinum HMO C
A21: 18 | B21: Anthem-Gold PPO I | C21: Anthem-Gold PPO B | D21: Anthem-Platinum HMO B | E21: Kaiser-Silver HMO D | F21: Health Net-Silver HMO A | G21: Health Net-Gold HMO D | I21: Sutter-Silver HMO C | J21: Kaiser-Gold HMO D | K21: Sharp-Platinum HMO A
A22: 19 | B22: Anthem-Gold PPO H | C22: Anthem-Gold HMO B | D22: Anthem-Platinum HMO D | E22: Kaiser-Silver HMO C | F22: Health Net-Gold HMO B | G22: Health Net-Gold HMO B | I22: Sutter-Silver HMO B | J22: Kaiser-Gold HMO C | K22: Sutter-Platinum HMO A
A23: 20 | B23: Anthem-Gold PPO E | C23: Anthem-Gold HMO A | D23: Anthem-Platinum HMO A | E23: Kaiser-Silver HMO B | F23: Health Net-Gold HMO I | G23: Health Net-Gold HMO E | I23: UnitedhealthCare-Silver HMO A | J23: Kaiser-Gold HMO B | K23: UnitedhealthCare-Platinum HMO I
A24: 21 | B24: Anthem-Gold HMO A | C24: Anthem-Gold PPO E | D24: Anthem-Platinum HMO C | E24: Sharp-Bronze HMO A | F24: Health Net-Gold HMO D | G24: Health Net-Gold HMO I | I24: UnitedhealthCare-Silver HMO G | J24: Kaiser-Gold HMO E | K24: UnitedhealthCare-Platinum HMO B
A25: 22 | B25: Anthem-Platinum PPO B | C25: Health Net-Silver HMO A | D25: Anthem-Platinum PPO B | E25: Sharp-Bronze HMO B | F25: Health Net-Gold HMO C | G25: Health Net-Gold HMO A | I25: UnitedhealthCare-Silver HMO E | J25: Kaiser-Gold HMO F | K25: UnitedhealthCare-Platinum HMO C
A26: 23 | B26: Anthem-Platinum HMO A | C26: Health Net-Gold HMO E | D26: Health Net-Silver HMO A | E26: Sharp-Silver HMO A | F26: Health Net-Gold HMO A | G26: Health Net-Platinum HMO F | I26: UnitedhealthCare-Silver HMO F | J26: Sharp-Gold HMO A | K26: UnitedhealthCare-Platinum HMO N
A27: 24 | B27: Anthem-Platinum HMO B | C27: Health Net-Gold HMO G | D27: Health Net-Gold HMO E | E27: Sharp-Silver HMO B | F27: Health Net-Gold HMO E | G27: Health Net-Platinum HMO J | I27: Western-Silver HMO C | J27: Sharp-Gold HMO D | K27: UnitedhealthCare-Platinum HMO E
... A29: 26 | B29: Anthem-Platinum HMO C | C29: Health Net-Gold HMO D | D29: Health Net-Gold HMO H | E29: Sutter-Bronze HMO B | F29: Health Net-Gold HMO H | G29: Health Net-Platinum HMO C | I29: Western-Silver HMO B | J29: Sutter-Gold HMO C | K29: UnitedhealthCare-Platinum HMO A
A30: 27 | B30: Health Net-Silver HMO A | C30: Health Net-Gold HMO I | D30: Health Net-Gold HMO I | E30: Sutter-Bronze HMO A | F30: Kaiser-Silver HMO E | G30: Health Net-Platinum HMO H | J30: Sutter-Gold HMO A | K30: UnitedhealthCare-Platinum HMO M
A31: 28 | B31: Health Net-Gold HMO H | C31: Health Net-Gold HMO H | D31: Health Net-Gold HMO C | E31: Sutter-Silver HMO C | F31: Kaiser-Silver HMO A | G31: Health Net-Platinum HMO E | J31: Sutter-Gold HMO B | K31: UnitedhealthCare-Platinum HMO H
A32: 29 | B32: Health Net-Gold HMO B | C32: Health Net-Gold HMO B | D32: Health Net-Gold HMO D | E32: Sutter-Silver HMO B | F32: Kaiser-Silver HMO B | G32: Health Net-Platinum HMO G | J32: UnitedhealthCare-Gold HMO P | K32: Western-Platinum HMO A
A33: 30 | B33: Health Net-Gold HMO G | C33: Health Net-Gold HMO A | D33: Health Net-Gold HMO A | E33: UnitedhealthCare-Silver HMO E | F33: Kaiser-Silver HMO D | G33: Kaiser-Gold HMO F | J33: UnitedhealthCare-Gold HMO O | K33: Western-Platinum HMO B
A34: 31 | B34: Health Net-Gold HMO C | C34: Kaiser-Bronze HMO A | D34: Health Net-Gold HMO B | E34: UnitedhealthCare-Silver HMO G | F34: Kaiser-Silver HMO C | G34: Kaiser-Gold HMO B | J34: UnitedhealthCare-Gold HMO A | K34: Western-Platinum HMO C
A35: 32 | B35: Health Net-Gold HMO D | C35: Kaiser-Bronze HMO C | D35: Health Net-Platinum HMO E | E35: UnitedhealthCare-Silver HMO F | F35: Kaiser-Gold HMO E | G35: Kaiser-Gold HMO E | J35: UnitedhealthCare-Gold HMO H
A36: 33 | B36: Health Net-Gold HMO E | C36: Kaiser-Silver HMO B | D36: Health Net-Platinum HMO J | E36: UnitedhealthCare-Silver HMO A | F36: Kaiser-Gold HMO C | G36: Kaiser-Gold HMO C | J36: UnitedhealthCare-Gold HMO G
A37: 34 | B37: Health Net-Gold HMO A | C37: Kaiser-Silver HMO A | D37: Health Net-Platinum HMO C | E37: Western-Bronze HMO B | F37: Kaiser-Gold HMO D | G37: Kaiser-Gold HMO D | J37: UnitedhealthCare-Gold HMO M
A38: 35 | B38: Health Net-Gold HMO I | C38: Kaiser-Silver HMO D | D38: Health Net-Platinum HMO H | E38: Western-Bronze HMO C | F38: Kaiser-Gold HMO B | G38: Kaiser-Platinum HMO C | J38: UnitedhealthCare-Gold HMO J
A39: 36 | B39: Health Net-Platinum HMO G | C39: Kaiser-Silver HMO E | D39: Health Net-Platinum HMO I | E39: Western-Silver HMO B | F39: Kaiser-Gold HMO F | G39: Kaiser-Platinum HMO A | J39: UnitedhealthCare-Gold HMO B
A40: 37 | B40: Health Net-Platinum HMO F | C40: Kaiser-Silver HMO C | D40: Health Net-Platinum HMO F | E40: Western-Silver HMO C | F40: Sharp-Silver HMO B | G40: Kaiser-Platinum HMO B | J40: UnitedhealthCare-Gold HMO Q
A41: 38 | B41: Health Net-Platinum HMO C | C41: Kaiser-Gold HMO E | D41: Health Net-Platinum HMO G | E41: Western-Silver HMO A | F41: Sharp-Silver HMO C | G41: Sharp-Gold HMO D | J41: UnitedhealthCare-Gold HMO N
...
