Workbook
Name Add_Cancel_Dental: Lists!$F$29:$F$32
Name Add_Cancel_Medical: Lists!$E$29:$E$32
Name Add_Cancel_Vol_Vision: Lists!$F$34:$F$37
Name Cancel_Coverages: Lists!$E$42:$E$44
Name Change_to_Addresses: Lists!$E$34:$E$37
Name COBRA_Qualifying_Events: Lists!$F$17:$F$22
Name COBRA_Type: Lists!$E$17:$E$18
Name Dental_Carrier_Plans: Lists!$C$27:$C$34
Name Dental_Enrolling: Lists!$G$8:$G$9
Name DoubleChoice_Bronze_Silver: 'Medical Plans'!$E$3:$E$150
Name DoubleChoice_Gold_Platinum: 'Medical Plans'!$G$3:$G$150
Name DoubleChoice_Silver_Gold: 'Medical Plans'!$F$3:$F$150
Name Effective_Reason: Lists!$A$23:$A$26
Name Enrolling_Type: Lists!$A$17:$A$18
Name Gender: Lists!$G$4:$G$5
Name Languages: Lists!$D$17:$D$22
Name Life_BeneficiaryType: Lists!$H$27:$H$28
Name Life_RelationshipsBeneficiary: Lists!$G$27:$G$67
Name Make_A_Selection: 'Medical Plans'!$L$4
Name Marital_Status: Lists!$B$17:$B$19
Name Med_Den_Enrolling: Lists!$F$8:$F$9
Name Offering_Chiro: Lists!$D$4:$D$7
Name Offering_Dental: Lists!$B$4:$B$7
Name Offering_Life: Lists!$E$4:$E$6
Name Offering_Vision: Lists!$C$4:$C$6
Name PCP_Selection_Dental: Lists!$H$17:$H$19
Name PCP_Selection_Medical: Lists!$G$17:$G$20
Name Reasons_Cancellations: Lists!$A$30:$A$33
Name Relationship_Code: Lists!$C$17:$C$20
Name SingleChoice_Bronze: 'Medical Plans'!$H$3:$H$150
Name SingleChoice_Gold: 'Medical Plans'!$J$3:$J$150
Name SingleChoice_Platinum: 'Medical Plans'!$K$3:$K$150
Name SingleChoice_Silver: 'Medical Plans'!$I$3:$I$150
Name States: Lists!$J$4:$J$59
Name Tiered_CHOICE: 'Medical Plans'!$B$2:$L$2
Name Tiered_CHOICE: 'Medical Plans'!$B$2:$L$2
Name TotalChoice_Bronze_Silver_Gold_Platinum: 'Medical Plans'!$B$3:$B$150
Name TripleChoice_Bronze_Silver_Gold: 'Medical Plans'!$C$3:$C$150
Name TripleChoice_Silver_Gold_Platinum: 'Medical Plans'!$D$3:$D$150
Name Vision: Lists!$D$27:$D$28
Name Waiver_Type: Lists!$H$4:$H$7
Name Waiving_Reasons: Lists!$I$4:$I$9
Name Yes_or_No: Lists!$F$4:$F$5

Sheet 1. Start Here
A1: EMPLOYEE CENSUS | CHANGE REQUEST
A3: Welcome to CHOICE. We're not your traditional employee benefits program. With CaliforniaChoice, you get a flexible insurance program that fits the needs of all your employees.
A4: The group must have an attestation form on file before submitting this Change Request spreadsheet. To obtain an attestation form or if at any time you need assistance, please contact our customer service team at (800) 558-8003.
A5: Complete the required information on this page before beginning the worksheets. Authorized contact must be an authorized contact on file for the group that reviewed spreadsheet for accuracy.
A6: GROUP NUMBER | B6: 1
A7: COMPANY NAME (LEGAL) | B7: 2
A8: AUTHORIZED COMPANY CONTACT NAME | B8: 3
A9: AUTHORIZED COMPANY CONTACT PHONE NUMBER | B9: 4
A10: AUTHORIZED COMPANY CONTACT EMAIL | B10: 5
A11: Select the existing Medical & Ancillary Coverages your organization currently provides to employees. NOTE: A selection must be made in each coverage type for the pages to work as expected. This form is not used to make group-level coverage changes. To request any changes, please submit a Employer Change Request Form.
A12: MEDICAL | B12: 6 | C12: -- Select Option --
A13: DENTAL | B13: 7 | C13: -- Select Option --
A14: VISION | B14: 8 | C14: -- Select Option --
A15: CHIROPRACTIC | B15: 9 | C15: -- Select Option --
A16: LIFE | B16: 10 | C16: -- Select Option --
A18: Please review the following information before filling out the spreadsheet. If instructions are not followed, the spreadsheet will be returned for corrections prior to processing. Please note that this will cause delays.
A19: The reporting of enrollment data to CHOICE Administrators Insurance Services, Inc./CaliforniaChoice by Group and/or their agents is permitted based on the understanding and agreement that each eligible employee/Subscriber has completed and signed a CaliforniaChoice Medical/Dental/Life/Vision Enrollment Application (new enrollment), and/or Medical/Dental Waiver form (declining coverage for self and/or dependents) that includes statutory notice regarding the Health Plan's use of binding arbitration for certain member disputes.
A20: By sending this change request spreadsheet data, I attest that all eligible employees have read and agreed to the Health Plan's Arbitration language as it appears below:
A21: CaliforniaChoice Health Plan Mandatory Binding Arbitration Agreement I understand that, if I select a Health Plan that uses mandatory binding arbitration to resolve disputes, I am agreeing to arbitrate claims that relate to my or a dependent's membership in the Health Plan (except for Small Claims Court cases and claims that cannot be subject to binding arbitration under governing law). I understand that any dispute between myself, my heirs, relatives, or other associated parties on the one hand and the Health Plan, any contracted health care providers, administrators, or other associated parties on the other hand for alleged violation of any duty arising out of or related to membership in the Health Plan, including any claim for medical or hospital malpractice (a claim that medical services were unnecessary or unauthorized or were improperly, negligently, or incompetently rendered), for premises liability, or relating to the coverage for, or delivery of, services or items, irrespective of legal theory, must be decided by binding arbitration under California law and not by lawsuit or resort to court process, except as applicable law provides for judicial review of arbitration proceedings. I agree to give up our right to a jury trial and accept the use of binding arbitration. I understand that the full arbitration provision is in the Health Plan's coverage document, which is available for my review.
A23: Please note: ❶ This spreadsheet may be rendered invalid if modified. ❷ This spreadsheet is for group member enrollment changes only. ❸ This spreadsheet is for California groups only. ❹ All files must be sent in XLSX file extension only (Excel 2007+). ❺ Please complete all fields as appropriate for each eligible employee who is enrolling, changing or waiving coverage.

Sheet 2. Members Adding
G1: EMPLOYEE CENSUS | ENROLLMENT SPREADSHEET
A3: Complete this page only if the Employee is electing medical, dental, and/or vision for themselves and their eligible dependents. Employee must be enrolled on coverage to enroll dependent(s) unless if a COBRA takeover. Please list all waivers on the Members Waiving Sheet.
A4: Please refer to other tabs for any other changes if Employee is already enrolled on coverage.
A5: If offered by the employer, the Life coverage benefit cannot be waived and all eligible employees must be listed on this sheet, even if listed on the Members Waiving sheet.
A6: If offered by the employer, Chiropractic coverage is auto-enrolled for all employees residing in the state of California that enroll in Medical.
A7: EMPLOYEE AND DEPENDENT PERSONAL INFORMATION | M7: EMPLOYEE ONLY DEMOGRAPHIC INFORMATION | AA7: COBRA MEMBERS ONLY | AD7: MEDICAL PLAN & PCP SELECTION | AL7: DENTAL PLAN SELECTION (IF APPLICABLE) | AR7: VISION (IF APPLICABLE) | AT7: CHIRO (IF APPLICABLE) | AU7: COBRA MEMBERS ONLY | AV7: LIFE ENROLLMENT (IF APPLICABLE)
A8: REQUIRED | B8: REQUIRED (Select reason for enrollment) | C8: Please refer to the administrative handbook for required supporting document directions (CalChoice.com) | D8: REQUIRED TO PUT EMPLOYEE SSN FOR ALL ENTRIES (9 digit - no dashes Dashes will auto insert) | E8: REQUIRED (9 digit - no dashes Dashes will auto insert) | F8: REQUIRED | G8: REQUIRED | H8: OPTIONAL - 1 LETTER ONLY | I8: REQUIRED | J8: REQUIRED. (Please enter as MM/DD/YYYY) | K8: REQUIRED FOR DISABLED CHILDREN THAT ARE OVER AGE 26 | L8: ANNUAL CERTIFICATION WILL BE REQUIRED FOR ALL DISABLED DEPENDENTS | M8: REQUIRED FOR EMPLOYEE ONLY | N8: REQUIRED FOR EMPLOYEE ONLY (x@x.x) | O8: REQUIRED FOR EMPLOYEE ONLY (10 digits - no dashes or parentheses) | P8: REQUIRED FOR EMPLOYEE ONLY (Alphanumeric Including apt number Cannot be a P.O. box) | T8: OPTIONAL FOR EMPLOYEE ONLY IF DIFFERENT THAN PHYSICAL (if same as physical, leave blank. P.O. box allowed) | X8: OPTIONAL FOR EMPLOYEE ONLY (For communication purposes only, if employee would like to receive communication in an available language, make a selection, if left blank the default is English) | Y8: REQUIRED FOR EMPLOYEE ONLY | Z8: REQUIRED FOR EMPLOYEE ONLY (Full time Employment date, excluding any orientation periods, if applicable. Please enter as MM/DD/YYYY) | AA8: REQUIRED ONLY IF MEMBER IS ON COBRA Employee must be enrolled on coverage to enroll dependent(s) unless if a COBRA takeover (Please enter as MM/DD/YYYY for Event Date & must be end of the month) | AD8: REQUIRED FOR ALL MEMBERS | AE8: REQUIRED FOR EMPLOYEE ONLY (All dependents enrolled in the same plan) | AF8: REQUIRED FOR ALL MEMBERS IF THE PLAN SELECTION IS HMO (Not required for Kaiser Permanente or PPO benefit plans. **If the PCP selection is not contracted with your selected Health Plan/Benefit or if the PCP is not provided by the member, one will automatically be assigned. If remaining with the same Health Plan, but changing your benefit plan, please contact the Health Plan directly to confirm your PCP. For PCP changes only, please contact your Health Plan directly. Please visit www.calchoice.com/provider-search to locate provider ID information.) | AK8: REQUIRED FOR ALL MEMBERS WHEN GROUP IS OFFERING DENTAL | AL8: REQUIRED FOR EMPLOYEE ONLY WHEN GROUP IS OFFERING DENTAL (All dependents enrolled in the same plan) | AM8: REQUIRED FOR ALL MEMBERS IF THE PLAN SELECTION IS METLIFE OR SMILESAVER PLANS (Not required for Ameritas plans. **If the PCP selection is not contracted with your selected Carrier/Benefit or if the PCP is not provided by the member, one will automatically be assigned. If remaining with the same Health Plan, but changing your benefit plan, please contact the Health Plan directly to confirm your PCP. For PCP changes only, please contact your Health Plan directly. Please visit www.calchoice.com/provider-search to locate provider ID information.) | AR8: REQUIRED FOR ALL MEMBERS WHEN GROUP IS OFFERING VISION (Employee is responsible for 100% of the cost) | AS8: REQUIRED FOR EMPLOYEE ONLY WHEN GROUP IS OFFERING VISION (All dependents enrolled in the same plan) | AT8: NO ENTRY REQUIRED. (Members are Auto-Enrolled if Chiro is offered by the Group and if the Employee's physical address is in CA) | AU8: REQUIRED FOR COBRA MEMBERS ONLY | AV8: NO ENTRY REQUIRED. (Employees are auto-enrolled if Life is offered by the Group) | AW8: REQUIRED FOR EMPLOYEE ONLY WHEN THE GROUP IS OFFERING LIFE. (Sheet can accommodate six beneficiaries, please let our Customer Service team know if you need to add more than six. ***If listing more than one primary beneficiary or more than one secondary beneficiary, please enter the percentage of the insurance proceeds that each individual should receive. The percentage of insurance proceeds must equal 100% for each type of beneficiary (Primary or Secondary). No secondary beneficiaries will be entitled to any part of the insurance proceeds if any primary beneficiary is living at the time of death of the insured. Please enter DOBs as MM/DD/YYYY)
A9: RELATIONSHIP TO EMPLOYEE | B9: ENROLLMENT REASON | C9: QUALIFYING/TRIGGERING EVENT SUPPORTING DOCUMENTATION | D9: EMPLOYEE SOCIAL SECURITY NUMBER | E9: MEMBER SOCIAL SECURITY NUMBER | F9: LAST NAME (LEGAL) | G9: FIRST NAME (LEGAL) | H9: MIDDLE INITIAL | I9: GENDER | J9: DOB | K9: DISABLED DEPENDENT | L9: IS THE DISABILITY PERMANENT | M9: MARITAL STATUS | N9: EMPLOYEE EMAIL | O9: EMPLOYEE PHONE NUMBER | P9: PHYSICAL STREET ADDRESS | Q9: PHYSICAL CITY | R9: PHYSICAL STATE | S9: PHYSICAL ZIP | T9: MAILING ADDRESS | U9: MAILING CITY | V9: MAILING STATE | W9: MAILING ZIP | X9: LANGUAGE | Y9: JOB TITLE | Z9: DATE OF HIRE | AA9: COBRA TYPE | AB9: COBRA QUALIFYING / TRIGGERING EVENT | AC9: COBRA QUALIFYING / TRIGGERING EVENT DATE | AD9: ENROLLING IN MEDICAL | AE9: MEDICAL ENROLLMENT: SELECT HEALTH PLAN & BENEFIT | AF9: PROVIDER (PCP)SELECTION | AG9: PROVIDER NAME | AH9: CURRENT PATIENT? | AI9: PROVIDER ID# | AJ9: PROVIDER OFFICE LOCATION OR CITY | AK9: ENROLLING IN DENTAL | AL9: DENTAL ENROLLMENT: SELECT CARRIER & BENEFIT | AM9: DENTAL PROVIDER (PCP)SELECTION | AN9: DENTAL PROVIDER NAME | AO9: DENTAL CURRENT PATIENT? | AP9: DENTAL PROVIDER ID# | AQ9: DENTAL PROVIDER OFFICE LOCATION OR CITY | AR9: ENROLLING IN VISION | AS9: VISION ENROLLMENT | AT9: CHIRO ENROLLMENT | AU9: COBRA - ENROLLING IN CHIRO | AV9: LIFE ENROLLMENT | AW9: 1st BENEFICIARY NAME Full Legal Name | AX9: 1st BENEFICIARY DOB | AY9: 1st BENEFICIARY RELATIONSHIP | AZ9: 1st BENEFICIARY TYPE | BA9: 1st BENEFICIARY % | BB9: 2nd BENEFICIARY NAME Full Legal Name | BC9: 2nd BENEFICIARY DOB | BD9: 2nd BENEFICIARY RELATIONSHIP | BE9: 2nd BENEFICIARY TYPE | BF9: 2nd BENEFICIARY % | BG9: 3rd BENEFICIARY NAME Full Legal Name | BH9: 3rd BENEFICIARY DOB | BI9: 3rd BENEFICIARY RELATIONSHIP | BJ9: 3rd BENEFICIARY TYPE | BK9: 3rd BENEFICIARY % | BL9: 4th BENEFICIARY NAME Full Legal Name | BM9: 4th BENEFICIARY DOB | BN9: 4th BENEFICIARY RELATIONSHIP | BO9: 4th BENEFICIARY TYPE | BP9: 4th BENEFICIARY % | BQ9: 5th BENEFICIARY NAME Full Legal Name | BR9: 5th BENEFICIARY DOB | BS9: 5th BENEFICIARY RELATIONSHIP | BT9: 5th BENEFICIARY TYPE | BU9: 5th BENEFICIARY % | BV9: 6th BENEFICIARY NAME Full Legal Name | BW9: 6th BENEFICIARY DOB | BX9: 6th BENEFICIARY RELATIONSHIP | BY9: 6th BENEFICIARY TYPE | BZ9: 6th BENEFICIARY %
C10: =IF($B10= "Qualifying/Triggering Event", "Documentation Required"," ") | AT10: =IF(OR('1. Start Here'!$C$15="No Coverage Offered",'1. Start Here'!$C$15="-- Select Option --"),"N/A", IF(AND($R10="CA",$A10="Employee",$B10="New COBRA")=TRUE,"COBRA Election", IF(AND(NOT(ISBLANK($AE10)),$R10="CA",$A10="Employee")=TRUE,"EE + Any Deps Enrolled","N/A"))) -> N/A | AV10: =IF(AND($A10="Employee", $B10="New COBRA",'1. Start Here'!$C$16="Employer Sponsored"), "N/A - COBRA Ineligible", IF(AND($A10="Employee", $B10<>"New COBRA",'1. Start Here'!$C$16="Employer Sponsored"), "EE Only Enrolled", "N/A")) -> N/A
C11: =IF($B11= "Qualifying/Triggering Event", "Documentation Required"," ") | AT11: =IF(OR('1. Start Here'!$C$15="No Coverage Offered",'1. Start Here'!$C$15="-- Select Option --"),"N/A", IF(AND($R11="CA",$A11="Employee",$B11="New COBRA")=TRUE,"COBRA Election", IF(AND(NOT(ISBLANK($AE11)),$R11="CA",$A11="Employee")=TRUE,"EE + Any Deps Enrolled","N/A"))) -> N/A | AV11: =IF(AND($A11="Employee", $B11="New COBRA",'1. Start Here'!$C$16="Employer Sponsored"), "N/A - COBRA Ineligible", IF(AND($A11="Employee", $B11<>"New COBRA",'1. Start Here'!$C$16="Employer Sponsored"), "EE Only Enrolled", "N/A")) -> N/A
C12: =IF($B12= "Qualifying/Triggering Event", "Documentation Required"," ") | AT12: =IF(OR('1. Start Here'!$C$15="No Coverage Offered",'1. Start Here'!$C$15="-- Select Option --"),"N/A", IF(AND($R12="CA",$A12="Employee",$B12="New COBRA")=TRUE,"COBRA Election", IF(AND(NOT(ISBLANK($AE12)),$R12="CA",$A12="Employee")=TRUE,"EE + Any Deps Enrolled","N/A"))) -> N/A | AV12: =IF(AND($A12="Employee", $B12="New COBRA",'1. Start Here'!$C$16="Employer Sponsored"), "N/A - COBRA Ineligible", IF(AND($A12="Employee", $B12<>"New COBRA",'1. Start Here'!$C$16="Employer Sponsored"), "EE Only Enrolled", "N/A")) -> N/A
C13: =IF($B13= "Qualifying/Triggering Event", "Documentation Required"," ") | AT13: =IF(OR('1. Start Here'!$C$15="No Coverage Offered",'1. Start Here'!$C$15="-- Select Option --"),"N/A", IF(AND($R13="CA",$A13="Employee",$B13="New COBRA")=TRUE,"COBRA Election", IF(AND(NOT(ISBLANK($AE13)),$R13="CA",$A13="Employee")=TRUE,"EE + Any Deps Enrolled","N/A"))) -> N/A | AV13: =IF(AND($A13="Employee", $B13="New COBRA",'1. Start Here'!$C$16="Employer Sponsored"), "N/A - COBRA Ineligible", IF(AND($A13="Employee", $B13<>"New COBRA",'1. Start Here'!$C$16="Employer Sponsored"), "EE Only Enrolled", "N/A")) -> N/A
C14: =IF($B14= "Qualifying/Triggering Event", "Documentation Required"," ") | AT14: =IF(OR('1. Start Here'!$C$15="No Coverage Offered",'1. Start Here'!$C$15="-- Select Option --"),"N/A", IF(AND($R14="CA",$A14="Employee",$B14="New COBRA")=TRUE,"COBRA Election", IF(AND(NOT(ISBLANK($AE14)),$R14="CA",$A14="Employee")=TRUE,"EE + Any Deps Enrolled","N/A"))) -> N/A | AV14: =IF(AND($A14="Employee", $B14="New COBRA",'1. Start Here'!$C$16="Employer Sponsored"), "N/A - COBRA Ineligible", IF(AND($A14="Employee", $B14<>"New COBRA",'1. Start Here'!$C$16="Employer Sponsored"), "EE Only Enrolled", "N/A")) -> N/A
C15: =IF($B15= "Qualifying/Triggering Event", "Documentation Required"," ") | AT15: =IF(OR('1. Start Here'!$C$15="No Coverage Offered",'1. Start Here'!$C$15="-- Select Option --"),"N/A", IF(AND($R15="CA",$A15="Employee",$B15="New COBRA")=TRUE,"COBRA Election", IF(AND(NOT(ISBLANK($AE15)),$R15="CA",$A15="Employee")=TRUE,"EE + Any Deps Enrolled","N/A"))) -> N/A | AV15: =IF(AND($A15="Employee", $B15="New COBRA",'1. Start Here'!$C$16="Employer Sponsored"), "N/A - COBRA Ineligible", IF(AND($A15="Employee", $B15<>"New COBRA",'1. Start Here'!$C$16="Employer Sponsored"), "EE Only Enrolled", "N/A")) -> N/A
C16: =IF($B16= "Qualifying/Triggering Event", "Documentation Required"," ") | AT16: =IF(OR('1. Start Here'!$C$15="No Coverage Offered",'1. Start Here'!$C$15="-- Select Option --"),"N/A", IF(AND($R16="CA",$A16="Employee",$B16="New COBRA")=TRUE,"COBRA Election", IF(AND(NOT(ISBLANK($AE16)),$R16="CA",$A16="Employee")=TRUE,"EE + Any Deps Enrolled","N/A"))) -> N/A | AV16: =IF(AND($A16="Employee", $B16="New COBRA",'1. Start Here'!$C$16="Employer Sponsored"), "N/A - COBRA Ineligible", IF(AND($A16="Employee", $B16<>"New COBRA",'1. Start Here'!$C$16="Employer Sponsored"), "EE Only Enrolled", "N/A")) -> N/A
C17: =IF($B17= "Qualifying/Triggering Event", "Documentation Required"," ") | AT17: =IF(OR('1. Start Here'!$C$15="No Coverage Offered",'1. Start Here'!$C$15="-- Select Option --"),"N/A", IF(AND($R17="CA",$A17="Employee",$B17="New COBRA")=TRUE,"COBRA Election", IF(AND(NOT(ISBLANK($AE17)),$R17="CA",$A17="Employee")=TRUE,"EE + Any Deps Enrolled","N/A"))) -> N/A | AV17: =IF(AND($A17="Employee", $B17="New COBRA",'1. Start Here'!$C$16="Employer Sponsored"), "N/A - COBRA Ineligible", IF(AND($A17="Employee", $B17<>"New COBRA",'1. Start Here'!$C$16="Employer Sponsored"), "EE Only Enrolled", "N/A")) -> N/A
C18: =IF($B18= "Qualifying/Triggering Event", "Documentation Required"," ") | AT18: =IF(OR('1. Start Here'!$C$15="No Coverage Offered",'1. Start Here'!$C$15="-- Select Option --"),"N/A", IF(AND($R18="CA",$A18="Employee",$B18="New COBRA")=TRUE,"COBRA Election", IF(AND(NOT(ISBLANK($AE18)),$R18="CA",$A18="Employee")=TRUE,"EE + Any Deps Enrolled","N/A"))) -> N/A | AV18: =IF(AND($A18="Employee", $B18="New COBRA",'1. Start Here'!$C$16="Employer Sponsored"), "N/A - COBRA Ineligible", IF(AND($A18="Employee", $B18<>"New COBRA",'1. Start Here'!$C$16="Employer Sponsored"), "EE Only Enrolled", "N/A")) -> N/A
C19: =IF($B19= "Qualifying/Triggering Event", "Documentation Required"," ") | AT19: =IF(OR('1. Start Here'!$C$15="No Coverage Offered",'1. Start Here'!$C$15="-- Select Option --"),"N/A", IF(AND($R19="CA",$A19="Employee",$B19="New COBRA")=TRUE,"COBRA Election", IF(AND(NOT(ISBLANK($AE19)),$R19="CA",$A19="Employee")=TRUE,"EE + Any Deps Enrolled","N/A"))) -> N/A | AV19: =IF(AND($A19="Employee", $B19="New COBRA",'1. Start Here'!$C$16="Employer Sponsored"), "N/A - COBRA Ineligible", IF(AND($A19="Employee", $B19<>"New COBRA",'1. Start Here'!$C$16="Employer Sponsored"), "EE Only Enrolled", "N/A")) -> N/A
C20: =IF($B20= "Qualifying/Triggering Event", "Documentation Required"," ") | AT20: =IF(OR('1. Start Here'!$C$15="No Coverage Offered",'1. Start Here'!$C$15="-- Select Option --"),"N/A", IF(AND($R20="CA",$A20="Employee",$B20="New COBRA")=TRUE,"COBRA Election", IF(AND(NOT(ISBLANK($AE20)),$R20="CA",$A20="Employee")=TRUE,"EE + Any Deps Enrolled","N/A"))) -> N/A | AV20: =IF(AND($A20="Employee", $B20="New COBRA",'1. Start Here'!$C$16="Employer Sponsored"), "N/A - COBRA Ineligible", IF(AND($A20="Employee", $B20<>"New COBRA",'1. Start Here'!$C$16="Employer Sponsored"), "EE Only Enrolled", "N/A")) -> N/A
C21: =IF($B21= "Qualifying/Triggering Event", "Documentation Required"," ") | AT21: =IF(OR('1. Start Here'!$C$15="No Coverage Offered",'1. Start Here'!$C$15="-- Select Option --"),"N/A", IF(AND($R21="CA",$A21="Employee",$B21="New COBRA")=TRUE,"COBRA Election", IF(AND(NOT(ISBLANK($AE21)),$R21="CA",$A21="Employee")=TRUE,"EE + Any Deps Enrolled","N/A"))) -> N/A | AV21: =IF(AND($A21="Employee", $B21="New COBRA",'1. Start Here'!$C$16="Employer Sponsored"), "N/A - COBRA Ineligible", IF(AND($A21="Employee", $B21<>"New COBRA",'1. Start Here'!$C$16="Employer Sponsored"), "EE Only Enrolled", "N/A")) -> N/A
... C498: =IF($B498= "Qualifying/Triggering Event", "Documentation Required"," ") | AT498: =IF(OR('1. Start Here'!$C$15="No Coverage Offered",'1. Start Here'!$C$15="-- Select Option --"),"N/A", IF(AND($R498="CA",$A498="Employee",$B498="New COBRA")=TRUE,"COBRA Election", IF(AND(NOT(ISBLANK($AE498)),$R498="CA",$A498="Employee")=TRUE,"EE + Any Deps Enrolled","N/A"))) -> N/A | AV498: =IF(AND($A498="Employee", $B498="New COBRA",'1. Start Here'!$C$16="Employer Sponsored"), "N/A - COBRA Ineligible", IF(AND($A498="Employee", $B498<>"New COBRA",'1. Start Here'!$C$16="Employer Sponsored"), "EE Only Enrolled", "N/A")) -> N/A

Sheet 3. Members Changing
F1: EMPLOYEE CENSUS | CHANGE REQUEST SPREADSHEET
A3: Complete this page only if the Employee is CURRENTLY enrolled in CaliforniaChoice. If the Employee needs to be added, please refer to 2.Members Adding tab. Complete this page only if the Employee/dependent is changing their demographic information or Employee is adding/changing/voluntary terming their existing coverage. Plan changes are only allowed at Renewal. However, employees who acquire a new dependent (i.e. newborn, new spouse etc.) are able to change their coverage outside of the Renewal Period with supporting documentation (Please refer to the administrative handbook for more information. Cancellations of coverage will take effect on the last day of the month after receipt of your request by CaliforniaChoice. Cancellations at Renewal will take effect on the group’s Renewal Date. Additions (qualifying/triggering event): Please refer to administrative handbook for effective date guidelines based on qualifying/triggering event. Additions (at renewal): Coverage will be effective on the group’s renewal date. This form must be received by CaliforniaChoice no later than 60 days after the event takes place if outside renewal. If offered by the employer, the Life coverage benefit cannot be waived and all eligible employees must be listed on this sheet, even if listed on the Members Waiving sheet. If offered by the employer, Chiropractic coverage is auto-enrolled for all employees residing in the state of California that enroll in Medical.
A7: EMPLOYEE AND DEPENDENT PERSONAL INFORMATION | N7: EMPLOYEE ONLY DEMOGRAPHIC INFORMATION | AA7: CHILD INFORMATION | AD7: MEDICAL PLAN & PCP SELECTION | AM7: DENTAL PLAN SELECTION (IF APPLICABLE) | AV7: VISION (IF APPLICABLE) | AZ7: CHIRO (IF APPLICABLE) | BA7: LIFE ENROLLMENT (IF APPLICABLE)
A8: REQUIRED | B8: REQUIRED | C8: REQUIRED TO PUT EMPLOYEE SSN FOR ALL ENTRIES (9 digit - no dashes Dashes will auto insert) | D8: REQUIRED (9 digit - no dashes Dashes will auto insert) | E8: REQUIRED | F8: REQUIRED | G8: OPTIONAL - 1 LETTER ONLY | H8: REQUIRED Select from drop-down either Yes or No. | I8: Required if Name Change = Yes | J8: Required if Name Change = Yes Attach copy of legal documentation | K8: OPTIONAL - 1 LETTER ONLY | L8: REQUIRED | M8: REQUIRED. (Please enter as MM/DD/YYYY) | N8: REQUIRED | O8: REQUIRED FOR EMPLOYEE ONLY (Alphanumeric Including apt number Cannot be a P.O. box) | S8: OPTIONAL FOR EMPLOYEE ONLY IF DIFFERENT THAN PHYSICAL (if same as physical, leave blank. P.O. box allowed) | W8: REQUIRED FOR EMPLOYEE ONLY (x@x.x) | X8: REQUIRED FOR EMPLOYEE ONLY (10 digits - no dashes or parentheses) | Y8: REQUIRED FOR EMPLOYEE ONLY | Z8: Attach copy of Marriage license and/or certificate if applicable (Please enter as MM/DD/YYYY) | AA8: Attach copy of legal documentation (Please enter as MM/DD/YYYY) | AB8: REQUIRED FOR DISABLED CHILDREN THAT ARE OVER 26 YRS OLD ONLY | AC8: ANNUAL CERTIFICATION WILL BE REQUIRED FOR ALL DISABLED DEPENDENTS | AD8: REQUIRED | AE8: REQUIRED Select reason for cancelling coverage | AF8: NO ENTRY REQUIRED. Formula will autopopulate based on selections in other columns | AG8: REQUIRED FOR EMPLOYEE ONLY (All dependents enrolled in the same plan) | AH8: REQUIRED FOR ALL MEMBERS IF THE PLAN SELECTION IS HMO (Not required for Kaiser Permanente or PPO benefit plans. **If the PCP selection is not contracted with your selected Health Plan/Benefit or if the PCP is not provided by the member, one will automatically be assigned. If remaining with the same Health Plan, but changing your benefit plan, please contact the Health Plan directly to confirm your PCP. For PCP changes only, please contact your Health Plan directly. Please visit www.calchoice.com/provider-search to locate provider ID information.) | AM8: REQUIRED | AN8: REQUIRED Select reason for cancelling coverage | AO8: NO ENTRY REQUIRED. Formula will autopopulate based on selections in other columns | AP8: REQUIRED FOR EMPLOYEE ONLY WHEN GROUP IS OFFERING DENTAL (All dependents enrolled in the same plan) | AQ8: REQUIRED FOR ALL MEMBERS IF THE PLAN SELECTION IS METLIFE OR SMILESAVER PLANS (Not required for Ameritas plans) **If the PCP selection is not contracted with your selected Carrier/Benefit or if the PCP is not provided by the member, one will automatically be assigned. If remaining with the same Health Plan, but changing your benefit plan, please contact the Health Plan directly to confirm your PCP. For PCP changes only, please contact your Health Plan directly. Please visit www.calchoice.com/provider-search to locate provider ID information.) | AV8: REQUIRED | AW8: REQUIRED Select reason for cancelling coverage | AX8: NO ENTRY REQUIRED. Formula will autopopulate based on selections in other columns | AY8: REQUIRED FOR EMPLOYEE ONLY WHEN GROUP IS OFFERING VISION (All dependents enrolled in the same plan) | AZ8: NO ENTRY REQUIRED. (Members are Auto-Enrolled if Chiro is offered by the Group and if the Employee is enrolled in Medical coverage and physical address is in CA) | BA8: REQUIRED (If Life is offered by the Group) | BB8: NO ENTRY REQUIRED. (Employees are auto-enrolled if Life is offered by the Group) | BC8: COMPLETE ONLY IF YOU WISH TO CHANGE THE EXISTING BENEFICIARY ON YOUR LIFE INSURANCE. This change will take effect on the date it was signed. (Sheet can accommodate six beneficiaries, please let our Customer Service team know if you need to add more than six. ***If listing more than one primary beneficiary or more than one secondary beneficiary, please enter the percentage of the insurance proceeds that each individual should receive. The percentage of insurance proceeds must equal 100% for each type of beneficiary (Primary or Secondary). No secondary beneficiaries will be entitled to any part of the insurance proceeds if any primary beneficiary is living at the time of death of the insured. Please enter DOBs as MM/DD/YYYY)
A9: RELATIONSHIP TO EMPLOYEE | B9: ARE CHANGES TO BE EFFECTIVE AT RENEWAL? | C9: EMPLOYEE SOCIAL SECURITY NUMBER | D9: MEMBER SOCIAL SECURITY NUMBER | E9: LAST NAME (LEGAL) | F9: FIRST NAME (LEGAL) | G9: MIDDLE INITIAL | H9: NAME CHANGE / CORRECTION? | I9: LAST NAME (NEW LEGAL) | J9: FIRST NAME (NEW LEGAL) | K9: MIDDLE INITIAL (NEW) | L9: GENDER | M9: DOB | N9: CHANGING ANY OF THE ADDRESSES? | O9: PHYSICAL STREET ADDRESS | P9: PHYSICAL CITY | Q9: PHYSICAL STATE | R9: PHYSICAL ZIP | S9: MAILING ADDRESS | T9: MAILING CITY | U9: MAILING STATE | V9: MAILING ZIP | W9: EMPLOYEE EMAIL | X9: EMPLOYEE PHONE NUMBER | Y9: MARITAL STATUS | Z9: DATE OF MARRIAGE / DIVORCE (IF ADDING / CANCELING SPOUSE) | AA9: IF CHILD CUSTODY, ENTER DATE OF ADOPTION | AB9: DISABLED DEPENDENT | AC9: IS THE DISABILITY PERMANENT | AD9: MEDICAL COVERAGE CHANGE | AE9: REASON FOR MEDICAL CANCELLATION | AF9: ENROLLING IN MEDICAL | AG9: MEDICAL ENROLLMENT: SELECT HEALTH PLAN & BENEFIT | AH9: PROVIDER (PCP)SELECTION | AI9: PROVIDER NAME | AJ9: CURRENT PATIENT? | AK9: PROVIDER ID# | AL9: PROVIDER OFFICE LOCATION OR CITY | AM9: DENTAL COVERAGE CHANGE | AN9: REASON FOR DENTAL CANCELLATION | AO9: ENROLLING IN DENTAL | AP9: DENTAL ENROLLMENT: SELECT CARRIER & BENEFIT | AQ9: DENTAL PROVIDER (PCP)SELECTION | AR9: DENTAL PROVIDER NAME | AS9: DENTAL CURRENT PATIENT? | AT9: DENTAL PROVIDER ID# | AU9: DENTAL PROVIDER OFFICE LOCATION OR CITY | AV9: VOLUNTARY VISION CHANGE | AW9: REASON FOR VISION CANCELLATION | AX9: ENROLLING IN VISION | AY9: VISION ENROLLMENT | AZ9: CHIRO ENROLLMENT | BA9: LIFE BENEFICIARY CHANGE | BB9: LIFE ENROLLMENT | BC9: 1st BENEFICIARY NAME Full Legal Name | BD9: 1st BENEFICIARY DOB | BE9: 1st BENEFICIARY RELATIONSHIP | BF9: 1st BENEFICIARY TYPE | BG9: 1st BENEFICIARY % | BH9: 2nd BENEFICIARY NAME Full Legal Name | BI9: 2nd BENEFICIARY DOB | BJ9: 2nd BENEFICIARY RELATIONSHIP | BK9: 2nd BENEFICIARY TYPE | BL9: 2nd BENEFICIARY % | BM9: 3rd BENEFICIARY NAME Full Legal Name | BN9: 3rd BENEFICIARY DOB | BO9: 3rd BENEFICIARY RELATIONSHIP | BP9: 3rd BENEFICIARY TYPE | BQ9: 3rd BENEFICIARY % | BR9: 4th BENEFICIARY NAME Full Legal Name | BS9: 4th BENEFICIARY DOB | BT9: 4th BENEFICIARY RELATIONSHIP | BU9: 4th BENEFICIARY TYPE | BV9: 4th BENEFICIARY % | BW9: 5th BENEFICIARY NAME Full Legal Name | BX9: 5th BENEFICIARY DOB | BY9: 5th BENEFICIARY RELATIONSHIP | BZ9: 5th BENEFICIARY TYPE | CA9: 5th BENEFICIARY % | CB9: 6th BENEFICIARY NAME Full Legal Name | CC9: 6th BENEFICIARY DOB | CD9: 6th BENEFICIARY RELATIONSHIP | CE9: 6th BENEFICIARY TYPE | CF9: 6th BENEFICIARY %
AF10: {=_xlfn.IFS(Table255[[#This Row],[MEDICAL COVERAGE CHANGE]]="Adding Medical", "Enrolling",Table255[[#This Row],[MEDICAL COVERAGE CHANGE]]="Changing Medical", "Plan Change",Table255[[#This Row],[MEDICAL COVERAGE CHANGE]]="Cancelling Medical", " ", Table255[[#This Row],[MEDICAL COVERAGE CHANGE]]="No Change to Medical", " ",ISBLANK(Table255[[#This Row],[MEDICAL COVERAGE CHANGE]]), " ")} | AO10: {=_xlfn.IFS(Table255[[#This Row],[DENTAL COVERAGE CHANGE]]="Adding Dental", "Enrolling",Table255[[#This Row],[DENTAL COVERAGE CHANGE]]="Changing Dental", "Plan Change",Table255[[#This Row],[DENTAL COVERAGE CHANGE]]="Cancelling Dental", " ", Table255[[#This Row],[DENTAL COVERAGE CHANGE]]="No Change to Dental", " ",ISBLANK(Table255[[#This Row],[DENTAL COVERAGE CHANGE]]), " ")} | AX10: {=_xlfn.IFS(Table255[[#This Row],[VOLUNTARY VISION CHANGE]]="Adding Voluntary Vision", "Enrolling",Table255[[#This Row],[VOLUNTARY VISION CHANGE]]="Changing Voluntary Vision", "Plan Change",Table255[[#This Row],[VOLUNTARY VISION CHANGE]]="Cancelling Voluntary Vision", " ", Table255[[#This Row],[VOLUNTARY VISION CHANGE]]="No Change to Voluntary Vision", " ",ISBLANK(Table255[[#This Row],[VOLUNTARY VISION CHANGE]]), " ")} | AZ10: =IF($A10<>"Employee","N/A", IF(OR('1. Start Here'!$C$15="No Coverage Offered",'1. Start Here'!$C$15="-- Select Option --"),"Not Eligible - Group does not offer chiro", IF($AD10="Cancelling Medical","EE + Any Deps will be Cancelled", IF(AND((ISBLANK($AG10)),OR($AD10="Adding Medical",$AD10="Changing Medical")=TRUE),"Employee must select medical plan first", IF($Q10<>"CA","Auto Enrolled if EE lives in CA", IF(AND(NOT(ISBLANK($AG10)),$Q10="CA",$A10="Employee",OR($AD10="Adding Medical",$AD10="Changing Medical")=TRUE),"EE + Any Deps Enrolled","N/A")))))) -> N/A | BB10: =IF(OR('1. Start Here'!$C$16="No Coverage Offered", '1. Start Here'!$C$16="-- Select Option --")=TRUE, "N/A", IF(AND($A10="Employee", '1. Start Here'!$C$16="Employer Sponsored"), "EE Only Enrolled", "N/A")) -> N/A
AF11: {=_xlfn.IFS(Table255[[#This Row],[MEDICAL COVERAGE CHANGE]]="Adding Medical", "Enrolling",Table255[[#This Row],[MEDICAL COVERAGE CHANGE]]="Changing Medical", "Plan Change",Table255[[#This Row],[MEDICAL COVERAGE CHANGE]]="Cancelling Medical", " ", Table255[[#This Row],[MEDICAL COVERAGE CHANGE]]="No Change to Medical", " ",ISBLANK(Table255[[#This Row],[MEDICAL COVERAGE CHANGE]]), " ")} | AO11: {=_xlfn.IFS(Table255[[#This Row],[DENTAL COVERAGE CHANGE]]="Adding Dental", "Enrolling",Table255[[#This Row],[DENTAL COVERAGE CHANGE]]="Changing Dental", "Plan Change",Table255[[#This Row],[DENTAL COVERAGE CHANGE]]="Cancelling Dental", " ", Table255[[#This Row],[DENTAL COVERAGE CHANGE]]="No Change to Dental", " ",ISBLANK(Table255[[#This Row],[DENTAL COVERAGE CHANGE]]), " ")} | AX11: {=_xlfn.IFS(Table255[[#This Row],[VOLUNTARY VISION CHANGE]]="Adding Voluntary Vision", "Enrolling",Table255[[#This Row],[VOLUNTARY VISION CHANGE]]="Changing Voluntary Vision", "Plan Change",Table255[[#This Row],[VOLUNTARY VISION CHANGE]]="Cancelling Voluntary Vision", " ", Table255[[#This Row],[VOLUNTARY VISION CHANGE]]="No Change to Voluntary Vision", " ",ISBLANK(Table255[[#This Row],[VOLUNTARY VISION CHANGE]]), " ")} | AZ11: =IF($A11<>"Employee","N/A", IF(OR('1. Start Here'!$C$15="No Coverage Offered",'1. Start Here'!$C$15="-- Select Option --"),"Not Eligible - Group does not offer chiro", IF($AD11="Cancelling Medical","EE + Any Deps will be Cancelled", IF(AND((ISBLANK($AG11)),OR($AD11="Adding Medical",$AD11="Changing Medical")=TRUE),"Employee must select medical plan first", IF($Q11<>"CA","Auto Enrolled if EE lives in CA", IF(AND(NOT(ISBLANK($AG11)),$Q11="CA",$A11="Employee",OR($AD11="Adding Medical",$AD11="Changing Medical")=TRUE),"EE + Any Deps Enrolled","N/A")))))) -> N/A | BB11: =IF(OR('1. Start Here'!$C$16="No Coverage Offered", '1. Start Here'!$C$16="-- Select Option --")=TRUE, "N/A", IF(AND($A11="Employee", '1. Start Here'!$C$16="Employer Sponsored"), "EE Only Enrolled", "N/A")) -> N/A
AF12: {=_xlfn.IFS(Table255[[#This Row],[MEDICAL COVERAGE CHANGE]]="Adding Medical", "Enrolling",Table255[[#This Row],[MEDICAL COVERAGE CHANGE]]="Changing Medical", "Plan Change",Table255[[#This Row],[MEDICAL COVERAGE CHANGE]]="Cancelling Medical", " ", Table255[[#This Row],[MEDICAL COVERAGE CHANGE]]="No Change to Medical", " ",ISBLANK(Table255[[#This Row],[MEDICAL COVERAGE CHANGE]]), " ")} | AO12: {=_xlfn.IFS(Table255[[#This Row],[DENTAL COVERAGE CHANGE]]="Adding Dental", "Enrolling",Table255[[#This Row],[DENTAL COVERAGE CHANGE]]="Changing Dental", "Plan Change",Table255[[#This Row],[DENTAL COVERAGE CHANGE]]="Cancelling Dental", " ", Table255[[#This Row],[DENTAL COVERAGE CHANGE]]="No Change to Dental", " ",ISBLANK(Table255[[#This Row],[DENTAL COVERAGE CHANGE]]), " ")} | AX12: {=_xlfn.IFS(Table255[[#This Row],[VOLUNTARY VISION CHANGE]]="Adding Voluntary Vision", "Enrolling",Table255[[#This Row],[VOLUNTARY VISION CHANGE]]="Changing Voluntary Vision", "Plan Change",Table255[[#This Row],[VOLUNTARY VISION CHANGE]]="Cancelling Voluntary Vision", " ", Table255[[#This Row],[VOLUNTARY VISION CHANGE]]="No Change to Voluntary Vision", " ",ISBLANK(Table255[[#This Row],[VOLUNTARY VISION CHANGE]]), " ")} | AZ12: =IF($A12<>"Employee","N/A", IF(OR('1. Start Here'!$C$15="No Coverage Offered",'1. Start Here'!$C$15="-- Select Option --"),"Not Eligible - Group does not offer chiro", IF($AD12="Cancelling Medical","EE + Any Deps will be Cancelled", IF(AND((ISBLANK($AG12)),OR($AD12="Adding Medical",$AD12="Changing Medical")=TRUE),"Employee must select medical plan first", IF($Q12<>"CA","Auto Enrolled if EE lives in CA", IF(AND(NOT(ISBLANK($AG12)),$Q12="CA",$A12="Employee",OR($AD12="Adding Medical",$AD12="Changing Medical")=TRUE),"EE + Any Deps Enrolled","N/A")))))) -> N/A | BB12: =IF(OR('1. Start Here'!$C$16="No Coverage Offered", '1. Start Here'!$C$16="-- Select Option --")=TRUE, "N/A", IF(AND($A12="Employee", '1. Start Here'!$C$16="Employer Sponsored"), "EE Only Enrolled", "N/A")) -> N/A
AF13: {=_xlfn.IFS(Table255[[#This Row],[MEDICAL COVERAGE CHANGE]]="Adding Medical", "Enrolling",Table255[[#This Row],[MEDICAL COVERAGE CHANGE]]="Changing Medical", "Plan Change",Table255[[#This Row],[MEDICAL COVERAGE CHANGE]]="Cancelling Medical", " ", Table255[[#This Row],[MEDICAL COVERAGE CHANGE]]="No Change to Medical", " ",ISBLANK(Table255[[#This Row],[MEDICAL COVERAGE CHANGE]]), " ")} | AO13: {=_xlfn.IFS(Table255[[#This Row],[DENTAL COVERAGE CHANGE]]="Adding Dental", "Enrolling",Table255[[#This Row],[DENTAL COVERAGE CHANGE]]="Changing Dental", "Plan Change",Table255[[#This Row],[DENTAL COVERAGE CHANGE]]="Cancelling Dental", " ", Table255[[#This Row],[DENTAL COVERAGE CHANGE]]="No Change to Dental", " ",ISBLANK(Table255[[#This Row],[DENTAL COVERAGE CHANGE]]), " ")} | AX13: {=_xlfn.IFS(Table255[[#This Row],[VOLUNTARY VISION CHANGE]]="Adding Voluntary Vision", "Enrolling",Table255[[#This Row],[VOLUNTARY VISION CHANGE]]="Changing Voluntary Vision", "Plan Change",Table255[[#This Row],[VOLUNTARY VISION CHANGE]]="Cancelling Voluntary Vision", " ", Table255[[#This Row],[VOLUNTARY VISION CHANGE]]="No Change to Voluntary Vision", " ",ISBLANK(Table255[[#This Row],[VOLUNTARY VISION CHANGE]]), " ")} | AZ13: =IF($A13<>"Employee","N/A", IF(OR('1. Start Here'!$C$15="No Coverage Offered",'1. Start Here'!$C$15="-- Select Option --"),"Not Eligible - Group does not offer chiro", IF($AD13="Cancelling Medical","EE + Any Deps will be Cancelled", IF(AND((ISBLANK($AG13)),OR($AD13="Adding Medical",$AD13="Changing Medical")=TRUE),"Employee must select medical plan first", IF($Q13<>"CA","Auto Enrolled if EE lives in CA", IF(AND(NOT(ISBLANK($AG13)),$Q13="CA",$A13="Employee",OR($AD13="Adding Medical",$AD13="Changing Medical")=TRUE),"EE + Any Deps Enrolled","N/A")))))) -> N/A | BB13: =IF(OR('1. Start Here'!$C$16="No Coverage Offered", '1. Start Here'!$C$16="-- Select Option --")=TRUE, "N/A", IF(AND($A13="Employee", '1. Start Here'!$C$16="Employer Sponsored"), "EE Only Enrolled", "N/A")) -> N/A
AF14: {=_xlfn.IFS(Table255[[#This Row],[MEDICAL COVERAGE CHANGE]]="Adding Medical", "Enrolling",Table255[[#This Row],[MEDICAL COVERAGE CHANGE]]="Changing Medical", "Plan Change",Table255[[#This Row],[MEDICAL COVERAGE CHANGE]]="Cancelling Medical", " ", Table255[[#This Row],[MEDICAL COVERAGE CHANGE]]="No Change to Medical", " ",ISBLANK(Table255[[#This Row],[MEDICAL COVERAGE CHANGE]]), " ")} | AO14: {=_xlfn.IFS(Table255[[#This Row],[DENTAL COVERAGE CHANGE]]="Adding Dental", "Enrolling",Table255[[#This Row],[DENTAL COVERAGE CHANGE]]="Changing Dental", "Plan Change",Table255[[#This Row],[DENTAL COVERAGE CHANGE]]="Cancelling Dental", " ", Table255[[#This Row],[DENTAL COVERAGE CHANGE]]="No Change to Dental", " ",ISBLANK(Table255[[#This Row],[DENTAL COVERAGE CHANGE]]), " ")} | AX14: {=_xlfn.IFS(Table255[[#This Row],[VOLUNTARY VISION CHANGE]]="Adding Voluntary Vision", "Enrolling",Table255[[#This Row],[VOLUNTARY VISION CHANGE]]="Changing Voluntary Vision", "Plan Change",Table255[[#This Row],[VOLUNTARY VISION CHANGE]]="Cancelling Voluntary Vision", " ", Table255[[#This Row],[VOLUNTARY VISION CHANGE]]="No Change to Voluntary Vision", " ",ISBLANK(Table255[[#This Row],[VOLUNTARY VISION CHANGE]]), " ")} | AZ14: =IF($A14<>"Employee","N/A", IF(OR('1. Start Here'!$C$15="No Coverage Offered",'1. Start Here'!$C$15="-- Select Option --"),"Not Eligible - Group does not offer chiro", IF($AD14="Cancelling Medical","EE + Any Deps will be Cancelled", IF(AND((ISBLANK($AG14)),OR($AD14="Adding Medical",$AD14="Changing Medical")=TRUE),"Employee must select medical plan first", IF($Q14<>"CA","Auto Enrolled if EE lives in CA", IF(AND(NOT(ISBLANK($AG14)),$Q14="CA",$A14="Employee",OR($AD14="Adding Medical",$AD14="Changing Medical")=TRUE),"EE + Any Deps Enrolled","N/A")))))) -> N/A | BB14: =IF(OR('1. Start Here'!$C$16="No Coverage Offered", '1. Start Here'!$C$16="-- Select Option --")=TRUE, "N/A", IF(AND($A14="Employee", '1. Start Here'!$C$16="Employer Sponsored"), "EE Only Enrolled", "N/A")) -> N/A
AF15: {=_xlfn.IFS(Table255[[#This Row],[MEDICAL COVERAGE CHANGE]]="Adding Medical", "Enrolling",Table255[[#This Row],[MEDICAL COVERAGE CHANGE]]="Changing Medical", "Plan Change",Table255[[#This Row],[MEDICAL COVERAGE CHANGE]]="Cancelling Medical", " ", Table255[[#This Row],[MEDICAL COVERAGE CHANGE]]="No Change to Medical", " ",ISBLANK(Table255[[#This Row],[MEDICAL COVERAGE CHANGE]]), " ")} | AO15: {=_xlfn.IFS(Table255[[#This Row],[DENTAL COVERAGE CHANGE]]="Adding Dental", "Enrolling",Table255[[#This Row],[DENTAL COVERAGE CHANGE]]="Changing Dental", "Plan Change",Table255[[#This Row],[DENTAL COVERAGE CHANGE]]="Cancelling Dental", " ", Table255[[#This Row],[DENTAL COVERAGE CHANGE]]="No Change to Dental", " ",ISBLANK(Table255[[#This Row],[DENTAL COVERAGE CHANGE]]), " ")} | AX15: {=_xlfn.IFS(Table255[[#This Row],[VOLUNTARY VISION CHANGE]]="Adding Voluntary Vision", "Enrolling",Table255[[#This Row],[VOLUNTARY VISION CHANGE]]="Changing Voluntary Vision", "Plan Change",Table255[[#This Row],[VOLUNTARY VISION CHANGE]]="Cancelling Voluntary Vision", " ", Table255[[#This Row],[VOLUNTARY VISION CHANGE]]="No Change to Voluntary Vision", " ",ISBLANK(Table255[[#This Row],[VOLUNTARY VISION CHANGE]]), " ")} | AZ15: =IF($A15<>"Employee","N/A", IF(OR('1. Start Here'!$C$15="No Coverage Offered",'1. Start Here'!$C$15="-- Select Option --"),"Not Eligible - Group does not offer chiro", IF($AD15="Cancelling Medical","EE + Any Deps will be Cancelled", IF(AND((ISBLANK($AG15)),OR($AD15="Adding Medical",$AD15="Changing Medical")=TRUE),"Employee must select medical plan first", IF($Q15<>"CA","Auto Enrolled if EE lives in CA", IF(AND(NOT(ISBLANK($AG15)),$Q15="CA",$A15="Employee",OR($AD15="Adding Medical",$AD15="Changing Medical")=TRUE),"EE + Any Deps Enrolled","N/A")))))) -> N/A | BB15: =IF(OR('1. Start Here'!$C$16="No Coverage Offered", '1. Start Here'!$C$16="-- Select Option --")=TRUE, "N/A", IF(AND($A15="Employee", '1. Start Here'!$C$16="Employer Sponsored"), "EE Only Enrolled", "N/A")) -> N/A
AF16: {=_xlfn.IFS(Table255[[#This Row],[MEDICAL COVERAGE CHANGE]]="Adding Medical", "Enrolling",Table255[[#This Row],[MEDICAL COVERAGE CHANGE]]="Changing Medical", "Plan Change",Table255[[#This Row],[MEDICAL COVERAGE CHANGE]]="Cancelling Medical", " ", Table255[[#This Row],[MEDICAL COVERAGE CHANGE]]="No Change to Medical", " ",ISBLANK(Table255[[#This Row],[MEDICAL COVERAGE CHANGE]]), " ")} | AO16: {=_xlfn.IFS(Table255[[#This Row],[DENTAL COVERAGE CHANGE]]="Adding Dental", "Enrolling",Table255[[#This Row],[DENTAL COVERAGE CHANGE]]="Changing Dental", "Plan Change",Table255[[#This Row],[DENTAL COVERAGE CHANGE]]="Cancelling Dental", " ", Table255[[#This Row],[DENTAL COVERAGE CHANGE]]="No Change to Dental", " ",ISBLANK(Table255[[#This Row],[DENTAL COVERAGE CHANGE]]), " ")} | AX16: {=_xlfn.IFS(Table255[[#This Row],[VOLUNTARY VISION CHANGE]]="Adding Voluntary Vision", "Enrolling",Table255[[#This Row],[VOLUNTARY VISION CHANGE]]="Changing Voluntary Vision", "Plan Change",Table255[[#This Row],[VOLUNTARY VISION CHANGE]]="Cancelling Voluntary Vision", " ", Table255[[#This Row],[VOLUNTARY VISION CHANGE]]="No Change to Voluntary Vision", " ",ISBLANK(Table255[[#This Row],[VOLUNTARY VISION CHANGE]]), " ")} | AZ16: =IF($A16<>"Employee","N/A", IF(OR('1. Start Here'!$C$15="No Coverage Offered",'1. Start Here'!$C$15="-- Select Option --"),"Not Eligible - Group does not offer chiro", IF($AD16="Cancelling Medical","EE + Any Deps will be Cancelled", IF(AND((ISBLANK($AG16)),OR($AD16="Adding Medical",$AD16="Changing Medical")=TRUE),"Employee must select medical plan first", IF($Q16<>"CA","Auto Enrolled if EE lives in CA", IF(AND(NOT(ISBLANK($AG16)),$Q16="CA",$A16="Employee",OR($AD16="Adding Medical",$AD16="Changing Medical")=TRUE),"EE + Any Deps Enrolled","N/A")))))) -> N/A | BB16: =IF(OR('1. Start Here'!$C$16="No Coverage Offered", '1. Start Here'!$C$16="-- Select Option --")=TRUE, "N/A", IF(AND($A16="Employee", '1. Start Here'!$C$16="Employer Sponsored"), "EE Only Enrolled", "N/A")) -> N/A
AF17: {=_xlfn.IFS(Table255[[#This Row],[MEDICAL COVERAGE CHANGE]]="Adding Medical", "Enrolling",Table255[[#This Row],[MEDICAL COVERAGE CHANGE]]="Changing Medical", "Plan Change",Table255[[#This Row],[MEDICAL COVERAGE CHANGE]]="Cancelling Medical", " ", Table255[[#This Row],[MEDICAL COVERAGE CHANGE]]="No Change to Medical", " ",ISBLANK(Table255[[#This Row],[MEDICAL COVERAGE CHANGE]]), " ")} | AO17: {=_xlfn.IFS(Table255[[#This Row],[DENTAL COVERAGE CHANGE]]="Adding Dental", "Enrolling",Table255[[#This Row],[DENTAL COVERAGE CHANGE]]="Changing Dental", "Plan Change",Table255[[#This Row],[DENTAL COVERAGE CHANGE]]="Cancelling Dental", " ", Table255[[#This Row],[DENTAL COVERAGE CHANGE]]="No Change to Dental", " ",ISBLANK(Table255[[#This Row],[DENTAL COVERAGE CHANGE]]), " ")} | AX17: {=_xlfn.IFS(Table255[[#This Row],[VOLUNTARY VISION CHANGE]]="Adding Voluntary Vision", "Enrolling",Table255[[#This Row],[VOLUNTARY VISION CHANGE]]="Changing Voluntary Vision", "Plan Change",Table255[[#This Row],[VOLUNTARY VISION CHANGE]]="Cancelling Voluntary Vision", " ", Table255[[#This Row],[VOLUNTARY VISION CHANGE]]="No Change to Voluntary Vision", " ",ISBLANK(Table255[[#This Row],[VOLUNTARY VISION CHANGE]]), " ")} | AZ17: =IF($A17<>"Employee","N/A", IF(OR('1. Start Here'!$C$15="No Coverage Offered",'1. Start Here'!$C$15="-- Select Option --"),"Not Eligible - Group does not offer chiro", IF($AD17="Cancelling Medical","EE + Any Deps will be Cancelled", IF(AND((ISBLANK($AG17)),OR($AD17="Adding Medical",$AD17="Changing Medical")=TRUE),"Employee must select medical plan first", IF($Q17<>"CA","Auto Enrolled if EE lives in CA", IF(AND(NOT(ISBLANK($AG17)),$Q17="CA",$A17="Employee",OR($AD17="Adding Medical",$AD17="Changing Medical")=TRUE),"EE + Any Deps Enrolled","N/A")))))) -> N/A | BB17: =IF(OR('1. Start Here'!$C$16="No Coverage Offered", '1. Start Here'!$C$16="-- Select Option --")=TRUE, "N/A", IF(AND($A17="Employee", '1. Start Here'!$C$16="Employer Sponsored"), "EE Only Enrolled", "N/A")) -> N/A
AF18: {=_xlfn.IFS(Table255[[#This Row],[MEDICAL COVERAGE CHANGE]]="Adding Medical", "Enrolling",Table255[[#This Row],[MEDICAL COVERAGE CHANGE]]="Changing Medical", "Plan Change",Table255[[#This Row],[MEDICAL COVERAGE CHANGE]]="Cancelling Medical", " ", Table255[[#This Row],[MEDICAL COVERAGE CHANGE]]="No Change to Medical", " ",ISBLANK(Table255[[#This Row],[MEDICAL COVERAGE CHANGE]]), " ")} | AO18: {=_xlfn.IFS(Table255[[#This Row],[DENTAL COVERAGE CHANGE]]="Adding Dental", "Enrolling",Table255[[#This Row],[DENTAL COVERAGE CHANGE]]="Changing Dental", "Plan Change",Table255[[#This Row],[DENTAL COVERAGE CHANGE]]="Cancelling Dental", " ", Table255[[#This Row],[DENTAL COVERAGE CHANGE]]="No Change to Dental", " ",ISBLANK(Table255[[#This Row],[DENTAL COVERAGE CHANGE]]), " ")} | AX18: {=_xlfn.IFS(Table255[[#This Row],[VOLUNTARY VISION CHANGE]]="Adding Voluntary Vision", "Enrolling",Table255[[#This Row],[VOLUNTARY VISION CHANGE]]="Changing Voluntary Vision", "Plan Change",Table255[[#This Row],[VOLUNTARY VISION CHANGE]]="Cancelling Voluntary Vision", " ", Table255[[#This Row],[VOLUNTARY VISION CHANGE]]="No Change to Voluntary Vision", " ",ISBLANK(Table255[[#This Row],[VOLUNTARY VISION CHANGE]]), " ")} | AZ18: =IF($A18<>"Employee","N/A", IF(OR('1. Start Here'!$C$15="No Coverage Offered",'1. Start Here'!$C$15="-- Select Option --"),"Not Eligible - Group does not offer chiro", IF($AD18="Cancelling Medical","EE + Any Deps will be Cancelled", IF(AND((ISBLANK($AG18)),OR($AD18="Adding Medical",$AD18="Changing Medical")=TRUE),"Employee must select medical plan first", IF($Q18<>"CA","Auto Enrolled if EE lives in CA", IF(AND(NOT(ISBLANK($AG18)),$Q18="CA",$A18="Employee",OR($AD18="Adding Medical",$AD18="Changing Medical")=TRUE),"EE + Any Deps Enrolled","N/A")))))) -> N/A | BB18: =IF(OR('1. Start Here'!$C$16="No Coverage Offered", '1. Start Here'!$C$16="-- Select Option --")=TRUE, "N/A", IF(AND($A18="Employee", '1. Start Here'!$C$16="Employer Sponsored"), "EE Only Enrolled", "N/A")) -> N/A
AF19: {=_xlfn.IFS(Table255[[#This Row],[MEDICAL COVERAGE CHANGE]]="Adding Medical", "Enrolling",Table255[[#This Row],[MEDICAL COVERAGE CHANGE]]="Changing Medical", "Plan Change",Table255[[#This Row],[MEDICAL COVERAGE CHANGE]]="Cancelling Medical", " ", Table255[[#This Row],[MEDICAL COVERAGE CHANGE]]="No Change to Medical", " ",ISBLANK(Table255[[#This Row],[MEDICAL COVERAGE CHANGE]]), " ")} | AO19: {=_xlfn.IFS(Table255[[#This Row],[DENTAL COVERAGE CHANGE]]="Adding Dental", "Enrolling",Table255[[#This Row],[DENTAL COVERAGE CHANGE]]="Changing Dental", "Plan Change",Table255[[#This Row],[DENTAL COVERAGE CHANGE]]="Cancelling Dental", " ", Table255[[#This Row],[DENTAL COVERAGE CHANGE]]="No Change to Dental", " ",ISBLANK(Table255[[#This Row],[DENTAL COVERAGE CHANGE]]), " ")} | AX19: {=_xlfn.IFS(Table255[[#This Row],[VOLUNTARY VISION CHANGE]]="Adding Voluntary Vision", "Enrolling",Table255[[#This Row],[VOLUNTARY VISION CHANGE]]="Changing Voluntary Vision", "Plan Change",Table255[[#This Row],[VOLUNTARY VISION CHANGE]]="Cancelling Voluntary Vision", " ", Table255[[#This Row],[VOLUNTARY VISION CHANGE]]="No Change to Voluntary Vision", " ",ISBLANK(Table255[[#This Row],[VOLUNTARY VISION CHANGE]]), " ")} | AZ19: =IF($A19<>"Employee","N/A", IF(OR('1. Start Here'!$C$15="No Coverage Offered",'1. Start Here'!$C$15="-- Select Option --"),"Not Eligible - Group does not offer chiro", IF($AD19="Cancelling Medical","EE + Any Deps will be Cancelled", IF(AND((ISBLANK($AG19)),OR($AD19="Adding Medical",$AD19="Changing Medical")=TRUE),"Employee must select medical plan first", IF($Q19<>"CA","Auto Enrolled if EE lives in CA", IF(AND(NOT(ISBLANK($AG19)),$Q19="CA",$A19="Employee",OR($AD19="Adding Medical",$AD19="Changing Medical")=TRUE),"EE + Any Deps Enrolled","N/A")))))) -> N/A | BB19: =IF(OR('1. Start Here'!$C$16="No Coverage Offered", '1. Start Here'!$C$16="-- Select Option --")=TRUE, "N/A", IF(AND($A19="Employee", '1. Start Here'!$C$16="Employer Sponsored"), "EE Only Enrolled", "N/A")) -> N/A
AF20: {=_xlfn.IFS(Table255[[#This Row],[MEDICAL COVERAGE CHANGE]]="Adding Medical", "Enrolling",Table255[[#This Row],[MEDICAL COVERAGE CHANGE]]="Changing Medical", "Plan Change",Table255[[#This Row],[MEDICAL COVERAGE CHANGE]]="Cancelling Medical", " ", Table255[[#This Row],[MEDICAL COVERAGE CHANGE]]="No Change to Medical", " ",ISBLANK(Table255[[#This Row],[MEDICAL COVERAGE CHANGE]]), " ")} | AO20: {=_xlfn.IFS(Table255[[#This Row],[DENTAL COVERAGE CHANGE]]="Adding Dental", "Enrolling",Table255[[#This Row],[DENTAL COVERAGE CHANGE]]="Changing Dental", "Plan Change",Table255[[#This Row],[DENTAL COVERAGE CHANGE]]="Cancelling Dental", " ", Table255[[#This Row],[DENTAL COVERAGE CHANGE]]="No Change to Dental", " ",ISBLANK(Table255[[#This Row],[DENTAL COVERAGE CHANGE]]), " ")} | AX20: {=_xlfn.IFS(Table255[[#This Row],[VOLUNTARY VISION CHANGE]]="Adding Voluntary Vision", "Enrolling",Table255[[#This Row],[VOLUNTARY VISION CHANGE]]="Changing Voluntary Vision", "Plan Change",Table255[[#This Row],[VOLUNTARY VISION CHANGE]]="Cancelling Voluntary Vision", " ", Table255[[#This Row],[VOLUNTARY VISION CHANGE]]="No Change to Voluntary Vision", " ",ISBLANK(Table255[[#This Row],[VOLUNTARY VISION CHANGE]]), " ")} | AZ20: =IF($A20<>"Employee","N/A", IF(OR('1. Start Here'!$C$15="No Coverage Offered",'1. Start Here'!$C$15="-- Select Option --"),"Not Eligible - Group does not offer chiro", IF($AD20="Cancelling Medical","EE + Any Deps will be Cancelled", IF(AND((ISBLANK($AG20)),OR($AD20="Adding Medical",$AD20="Changing Medical")=TRUE),"Employee must select medical plan first", IF($Q20<>"CA","Auto Enrolled if EE lives in CA", IF(AND(NOT(ISBLANK($AG20)),$Q20="CA",$A20="Employee",OR($AD20="Adding Medical",$AD20="Changing Medical")=TRUE),"EE + Any Deps Enrolled","N/A")))))) -> N/A | BB20: =IF(OR('1. Start Here'!$C$16="No Coverage Offered", '1. Start Here'!$C$16="-- Select Option --")=TRUE, "N/A", IF(AND($A20="Employee", '1. Start Here'!$C$16="Employer Sponsored"), "EE Only Enrolled", "N/A")) -> N/A
AF21: {=_xlfn.IFS(Table255[[#This Row],[MEDICAL COVERAGE CHANGE]]="Adding Medical", "Enrolling",Table255[[#This Row],[MEDICAL COVERAGE CHANGE]]="Changing Medical", "Plan Change",Table255[[#This Row],[MEDICAL COVERAGE CHANGE]]="Cancelling Medical", " ", Table255[[#This Row],[MEDICAL COVERAGE CHANGE]]="No Change to Medical", " ",ISBLANK(Table255[[#This Row],[MEDICAL COVERAGE CHANGE]]), " ")} | AO21: {=_xlfn.IFS(Table255[[#This Row],[DENTAL COVERAGE CHANGE]]="Adding Dental", "Enrolling",Table255[[#This Row],[DENTAL COVERAGE CHANGE]]="Changing Dental", "Plan Change",Table255[[#This Row],[DENTAL COVERAGE CHANGE]]="Cancelling Dental", " ", Table255[[#This Row],[DENTAL COVERAGE CHANGE]]="No Change to Dental", " ",ISBLANK(Table255[[#This Row],[DENTAL COVERAGE CHANGE]]), " ")} | AX21: {=_xlfn.IFS(Table255[[#This Row],[VOLUNTARY VISION CHANGE]]="Adding Voluntary Vision", "Enrolling",Table255[[#This Row],[VOLUNTARY VISION CHANGE]]="Changing Voluntary Vision", "Plan Change",Table255[[#This Row],[VOLUNTARY VISION CHANGE]]="Cancelling Voluntary Vision", " ", Table255[[#This Row],[VOLUNTARY VISION CHANGE]]="No Change to Voluntary Vision", " ",ISBLANK(Table255[[#This Row],[VOLUNTARY VISION CHANGE]]), " ")} | AZ21: =IF($A21<>"Employee","N/A", IF(OR('1. Start Here'!$C$15="No Coverage Offered",'1. Start Here'!$C$15="-- Select Option --"),"Not Eligible - Group does not offer chiro", IF($AD21="Cancelling Medical","EE + Any Deps will be Cancelled", IF(AND((ISBLANK($AG21)),OR($AD21="Adding Medical",$AD21="Changing Medical")=TRUE),"Employee must select medical plan first", IF($Q21<>"CA","Auto Enrolled if EE lives in CA", IF(AND(NOT(ISBLANK($AG21)),$Q21="CA",$A21="Employee",OR($AD21="Adding Medical",$AD21="Changing Medical")=TRUE),"EE + Any Deps Enrolled","N/A")))))) -> N/A | BB21: =IF(OR('1. Start Here'!$C$16="No Coverage Offered", '1. Start Here'!$C$16="-- Select Option --")=TRUE, "N/A", IF(AND($A21="Employee", '1. Start Here'!$C$16="Employer Sponsored"), "EE Only Enrolled", "N/A")) -> N/A
... AF498: {=_xlfn.IFS(Table255[[#This Row],[MEDICAL COVERAGE CHANGE]]="Adding Medical", "Enrolling",Table255[[#This Row],[MEDICAL COVERAGE CHANGE]]="Changing Medical", "Plan Change",Table255[[#This Row],[MEDICAL COVERAGE CHANGE]]="Cancelling Medical", " ", Table255[[#This Row],[MEDICAL COVERAGE CHANGE]]="No Change to Medical", " ",ISBLANK(Table255[[#This Row],[MEDICAL COVERAGE CHANGE]]), " ")} | AO498: {=_xlfn.IFS(Table255[[#This Row],[DENTAL COVERAGE CHANGE]]="Adding Dental", "Enrolling",Table255[[#This Row],[DENTAL COVERAGE CHANGE]]="Changing Dental", "Plan Change",Table255[[#This Row],[DENTAL COVERAGE CHANGE]]="Cancelling Dental", " ", Table255[[#This Row],[DENTAL COVERAGE CHANGE]]="No Change to Dental", " ",ISBLANK(Table255[[#This Row],[DENTAL COVERAGE CHANGE]]), " ")} | AX498: {=_xlfn.IFS(Table255[[#This Row],[VOLUNTARY VISION CHANGE]]="Adding Voluntary Vision", "Enrolling",Table255[[#This Row],[VOLUNTARY VISION CHANGE]]="Changing Voluntary Vision", "Plan Change",Table255[[#This Row],[VOLUNTARY VISION CHANGE]]="Cancelling Voluntary Vision", " ", Table255[[#This Row],[VOLUNTARY VISION CHANGE]]="No Change to Voluntary Vision", " ",ISBLANK(Table255[[#This Row],[VOLUNTARY VISION CHANGE]]), " ")} | AZ498: =IF($A498<>"Employee","N/A", IF(OR('1. Start Here'!$C$15="No Coverage Offered",'1. Start Here'!$C$15="-- Select Option --"),"Not Eligible - Group does not offer chiro", IF($AD498="Cancelling Medical","EE + Any Deps will be Cancelled", IF(AND((ISBLANK($AG498)),OR($AD498="Adding Medical",$AD498="Changing Medical")=TRUE),"Employee must select medical plan first", IF($Q498<>"CA","Auto Enrolled if EE lives in CA", IF(AND(NOT(ISBLANK($AG498)),$Q498="CA",$A498="Employee",OR($AD498="Adding Medical",$AD498="Changing Medical")=TRUE),"EE + Any Deps Enrolled","N/A")))))) -> N/A | BB498: =IF(OR('1. Start Here'!$C$16="No Coverage Offered", '1. Start Here'!$C$16="-- Select Option --")=TRUE, "N/A", IF(AND($A498="Employee", '1. Start Here'!$C$16="Employer Sponsored"), "EE Only Enrolled", "N/A")) -> N/A

Sheet 4. Mbrs Resigning_Terminating
B1: EMPLOYEE CENSUS | TERMINATION & RESIGNATION SPREADSHEET
A3: Complete this page when there is a termination of employment, reduction of hours or loss of life. If there are any other changes to existing member, please complete the '3. Members Changing' tab. Coverage will end on the last day of the month following each event. Involuntary termination of employment includes but is not limited to layoffs, job elimination and termination for cause. Please do not send a cancellation request prior to the actual last day of employment or eligibility. Written notification must be received within 30 days of the event. CaliforniaChoice will only give retroactive credit if notification was received within the guidelines provided. If your company offers Life Insurance through CaliforniaChoice, it is your responsibility to notify terminated employees of their conversion rights. The Life conversion information is available at www.calchoice.com.
A9: REQUIRED | B9: REQUIRED | C9: REQUIRED TO PUT EMPLOYEE SSN FOR ALL ENTRIES (9 digit - no dashes Dashes will auto insert) | D9: REQUIRED | E9: REQUIRED (Please enter as MM/DD/YYYY)
A10: EMPLOYEE LAST NAME (LEGAL) | B10: EMPLOYEE FIRST NAME (LEGAL) | C10: EMPLOYEE SOCIAL SECURITY NUMBER | D10: REASON FOR CANCELLATION | E10: LAST DAY EMPLOYED OR ELIGIBLE

Sheet 5. Members Waiving
B1: MEDICAL | DENTAL WAIVER
A3: Complete this page only if the Employee DOES NOT WANT MEDICAL OR DENTAL COVERAGE for themselves and/or their eligible dependents.
A4: If offered by the employer, the life coverage benefit cannot be waived and all employees must be on the Members Enrolling sheet.
A5: If offered by the employer, Chiropractic coverage is auto-enrolled for all employees residing in the state of California that enroll in Medical. If waiving Medical, Chiro is also automatically waived.
A6: REQUIRED for Employee Only. (Do not list dependent name) | B6: REQUIRED for Employee Only. (Do not list dependent name) | C6: REQUIRED (9 digit - NO DASHES Dashes will auto insert) | D6: REQUIRED (Select who you are waiving coverage for) | E6: REQUIRED ONLY IF WAIVING CHILDREN FOR MEDICAL COVERAGE (Separate names with a comma separator) | F6: REQUIRED ONLY IF EMPLOYEE IS WAIVING COVERAGE (Not required if only waiving coverage for dependents) | G6: REQUIRED ONLY IF EMPLOYEE WAIVING DUE TO OTHER GROUP MEDICAL COVERAGE | H6: REQUIRED WHEN GROUP IS OFFERING EMPLOYER-SPONSORED DENTAL (Select who you are waiving coverage for) | I6: REQUIRED ONLY IF WAIVING CHILDREN FOR EMPLOYER SPONSORED DENTAL COVERAGE (Separate names with a comma separator) | J6: ONLY REQUIRED FOR EMPLOYEE IF GROUP IS OFFERING EMPLOYER SPONSORED DENTAL (Not required if waiving for dependents) | K6: REQUIRED ONLY IF EMPLOYEE IS WAIVING DUE TO OTHER GROUP DENTAL COVERAGE (Not required if waiving for dependents)
A7: EMPLOYEE LAST NAME | B7: EMPLOYEE FIRST NAME | C7: LIST EE SSN HERE (Dependent SSN Not Required) | D7: MEDICAL WAIVER FOR? | E7: CHILD(REN) WAIVING (MEDICAL) | F7: REASON FOR WAIVING MEDICAL | G7: MEDICAL CARRIER | H7: DENTAL WAIVER FOR? | I7: CHILD(REN) WAIVING (DENTAL) | J7: REASON FOR WAIVING DENTAL | K7: DENTAL CARRIER

Sheet Lists
A1: Lists
L2: Per Sandra, certain carriers will provide coverage in the US Territories, so they are included in the States list
B3: Offering_Dental | C3: Offering_Vision | D3: Offering_Chiro | E3: Offering_Life | F3: Yes_or_No | G3: Gender | H3: Waiver Type | I3: Waiving Reasons | J3: States | K3: Effective Start Dates | L3: Alabama | M3: AL | N3: Kentucky | O3: KY | P3: Ohio | Q3: OH
B4: -- Select Option -- | C4: -- Select Option -- | D4: -- Select Option -- | E4: -- Select Option -- | F4: Yes | G4: Male | H4: Myself + All Dependents (select if you have no dependents) | I4: Covered Under Another Employer | J4: CA | K4: 46023 | L4: Alaska | M4: AK | N4: Louisiana | O4: LA | P4: Oklahoma | Q4: OK
